BEGIN:VCALENDAR
VERSION:2.0
PRODID:-//ChamberMaster//Event Calendar 2.0//EN
METHOD:PUBLISH
X-PUBLISHED-TTL:P3D
REFRESH-INTERVAL:P3D
CALSCALE:GREGORIAN
BEGIN:VEVENT
DTSTART:20160917T203000Z
DTEND:20160918T010000Z
X-MICROSOFT-CDO-ALLDAYEVENT:FALSE
SUMMARY:Downtown Streetfest - Sept. 2016
DESCRIPTION:The Charleston Area Alliance Downtown Streetfest summer block party series will return Saturday\, Sept. 17 along Capitol Street between Kanawha Boulevard and Virginia Street with local favorite Qiet.\n\n\n\nMeet up with friends and family between 4:30 and 9 p.m. for live music\, food and drinks\, kid's activities and pop-up shops.\n\n\n\nPlus the Kanawha River Navy will host its Annual Funeral Parade in conjunction with Downtown Streetfest. The Parade will proceed down Capitol Street from Donnally Street\, turning left along Virginia Street\, right along Hale Street and ending at Downtown Streetfest\, along the corner of Capitol Street and Kanawha Boulevard. \n\n\n\nThe event is sponsored by Proud Eagle\, Goose Island\, Tony The Tailor\, the Charleston WV Convention & Visitors Bureau and the Kanawha County Public Library.\n\n\n\nMany downtown retailers and restaurants have special programming planned for the event\, along with post-event live music and food and drink offerings.\n\n\n\nDowntown Streetfest events are also scheduled for Saturday\, May 21\; Saturday\, July 23\; and Saturday\, Aug. 20  on Capitol Street between Quarrier and Lee Streets.\n\nDowntown Streetfest stems from the Imagine Charleston Downtown Redevelopment Plan.
X-ALT-DESC;FMTTYPE=text/html:<p><span style="color: rgb(20\, 24\, 35)\;">The <a href="https://www.facebook.com/pages/Charleston-Area-Alliance/106843632683936"><span style="text-decoration: none\; text-underline: none\;"><span style="color: rgb(59\, 89\, 152)\;">Charleston Area Alliance</span></span></a>&nbsp\;Downtown Streetfest&nbsp\;summer block party series&nbsp\;will return Saturday\, Sept. 17 along Capitol Street between Kanawha Boulevard and Virginia Street with local favorite Qiet.<br />\n<br />\nMeet up with friends and family between 4:30 and&nbsp\;9 p.m. for live music\, food and drinks\, kid&#39\;s activities and&nbsp\;pop-up shops.<br />\n<br />\nPlus the Kanawha River Navy will host its Annual&nbsp\;Funeral Parade in conjunction with Downtown Streetfest. The Parade will proceed down Capitol Street from Donnally Street\, turning left along Virginia Street\, right along Hale Street and ending at Downtown Streetfest\, along the corner of Capitol Street and&nbsp\;Kanawha&nbsp\;Boulevard.&nbsp\;<br />\n<br />\nThe event is sponsored by<a href="http://proudeagleinc.com/" target="_blank"> Proud Eagle</a>\, <a href="http://www.gooseisland.com" target="_blank">Goose Island</a>\,&nbsp\;<a href="https://www.facebook.com/tonythetailorwv" id="js_1b"><span style="text-decoration: none\; text-underline: none\;"><span style="color: rgb(59\, 89\, 152)\;">Tony The Tailor</span></span></a>\, the <a href="https://www.facebook.com/CharlestonWVCVB"><span style="text-decoration: none\; text-underline: none\;"><span style="color: rgb(59\, 89\, 152)\;">Charleston WV Convention &amp\; Visitors Bureau</span></span></a> and the <a href="https://www.facebook.com/KanawhaLibrary"><span style="text-decoration: none\; text-underline: none\;"><span style="color: rgb(59\, 89\, 152)\;">Kanawha County Public Library</span></span></a>.<br />\n<br />\nMany downtown retailers and restaurants have special programming planned for the event\, along with post-event live music and food and drink offerings.<br />\n<br />\nDowntown Streetfest&nbsp\;events are also scheduled for Saturday\, May 21\;&nbsp\;Saturday\, July 23\; and Saturday\, Aug. 20 &nbsp\;on&nbsp\;Capitol Street between Quarrier and Lee Streets.</span></p>\n\n<p><span style="color: rgb(20\, 24\, 35)\;">Downtown Streetfest stems from the <a href="https://www.facebook.com/ImagineCharleston"><span style="text-decoration: none\; text-underline: none\;"><span style="color: rgb(59\, 89\, 152)\;">Imagine Charleston</span></span></a> Downtown Redevelopment Plan.</span><br />\n&nbsp\;</p>\n
LOCATION:Capitol Street\, between Kanawha Boulevard and Virginia Street
UID:e.1499.853
SEQUENCE:3
DTSTAMP:20260420T064831Z
URL:https://business.charlestonareaalliance.org/events/details/downtown-streetfest-sept-2016-09-17-2016-853
END:VEVENT

END:VCALENDAR
