BEGIN:VCALENDAR
VERSION:2.0
PRODID:-//ChamberMaster//Event Calendar 2.0//EN
METHOD:PUBLISH
X-PUBLISHED-TTL:P3D
REFRESH-INTERVAL:P3D
CALSCALE:GREGORIAN
BEGIN:VEVENT
DTSTART:20170520T203000Z
DTEND:20170521T010000Z
X-MICROSOFT-CDO-ALLDAYEVENT:FALSE
SUMMARY:Downtown Streetfest - May 2017
DESCRIPTION:Kick off the summer events schedule with Downtown Streetfest Saturday\, May 20 along Capitol Street with Shayar. \n\n\n\nMeet up with friends and family between 4:30 and 9 p.m. for live music\, food and drinks\, kid's activities\, pop-up shops and much more. Grab a bite to eat at your favorite downtown establishments\, let the kids play and listen to some live music.\n\n\n\nThe event is presented with title sponsorship support from City National Bank\, beverage sponsorship from Capitol Beverage Company and Sprigg's Distributing Company\, placemaking sponsorship from GAI Community Solutions Group and the Charleston Convention & Visitor's Bureau\, and supporting sponsorship support from the Kanawha County Public Library and Tony the Tailor. \n\n\n\nDowntown Streetfest block parties are also scheduled for Saturday\, July 22\; Saturday\, Aug. 26 and Saturday\, Sept. 23.
X-ALT-DESC;FMTTYPE=text/html:<p>Kick off the summer events schedule with Downtown Streetfest Saturday\, May 20 along Capitol Street with Shayar.&nbsp\;<br />\n<br />\n<span style="color: rgb(20\, 24\, 35)\;">Meet up with friends and family between 4:30 and&nbsp\;9 p.m. for live music\, food and drinks\, kid&#39\;s activities\, pop-up shops and much more. Grab a bite to eat at your favorite downtown establishments\, let the kids play and listen to some live music.<br />\n<br />\nThe event is presented with title sponsorship support from&nbsp\;City National Bank\, beverage sponsorship from Capitol Beverage Company and Sprigg&#39\;s Distributing Company\, placemaking&nbsp\;sponsorship from GAI Community Solutions Group and the Charleston Convention &amp\; Visitor&#39\;s Bureau\, and supporting sponsorship support from the&nbsp\;Kanawha County Public Library and Tony the Tailor.&nbsp\;<br />\n<br />\nDowntown Streetfest&nbsp\;block parties&nbsp\;are also scheduled for Saturday\, July 22\; Saturday\, Aug. 26 and Saturday\, Sept. 23.&nbsp\;</span><br />\n&nbsp\;</p>\n
LOCATION:Capitol Street\, between Quarrier and Lee
UID:e.1499.1920
SEQUENCE:3
DTSTAMP:20260419T204331Z
URL:https://business.charlestonareaalliance.org/events/details/downtown-streetfest-may-2017-1920
END:VEVENT

END:VCALENDAR
