BEGIN:VCALENDAR
VERSION:2.0
PRODID:-//ChamberMaster//Event Calendar 2.0//EN
METHOD:PUBLISH
X-PUBLISHED-TTL:P3D
REFRESH-INTERVAL:P3D
CALSCALE:GREGORIAN
BEGIN:VEVENT
DTSTART:20170722T203000Z
DTEND:20170723T010000Z
X-MICROSOFT-CDO-ALLDAYEVENT:FALSE
SUMMARY:Downtown Streetfest - July 2017
DESCRIPTION:Head down to Capitol Street for Downtown Streetfest block party Saturday\, July 22\, headlined Your Lucky Stars.\n\n\n\nMeet up with friends and family between 4:30 and 9 p.m. for live music\, food and drinks\, kid's activities\, pop-up shops and much more. Grab a bite to eat at your favorite downtown establishments and listen to some live music.\n\n\n\nThe event is presented with title sponsorship support from City National Bank\, beverage sponsorship from Capitol Beverage Company and Sprigg's Distributing Company\, placemaking sponsorship from GAI Community Solutions Group and the Charleston Convention & Visitor's Bureau\, and supporting sponsorship support from the Kanawha County Public Library and Tony the Tailor. \n\n\n\nDowntown Streetfest block parties are also scheduled for Saturday\, Aug. 26 and Saturday\, Sept. 23.
X-ALT-DESC;FMTTYPE=text/html:<p>Head down to Capitol Street for Downtown Streetfest&nbsp\;block party Saturday\, July 22\, headlined Your Lucky Stars.<br />\n<br />\n<span style="color: rgb(20\, 24\, 35)\;">Meet up with friends and family between 4:30 and&nbsp\;9 p.m. for live music\, food and drinks\, kid&#39\;s activities\, pop-up shops and much more. Grab a bite to eat at your favorite downtown establishments and listen to some live music.<br />\n<br />\nThe event is presented with title sponsorship support from&nbsp\;City National Bank\, beverage sponsorship from Capitol Beverage Company and Sprigg&#39\;s Distributing Company\, placemaking&nbsp\;sponsorship from GAI Community Solutions Group and the Charleston Convention &amp\; Visitor&#39\;s Bureau\, and supporting sponsorship support from the&nbsp\;Kanawha County Public Library and Tony the Tailor.&nbsp\;</span><br />\n<br />\n<span style="color: rgb(20\, 24\, 35)\;">Downtown Streetfest&nbsp\;block parties&nbsp\;are also scheduled for Saturday\, Aug. 26 and Saturday\, Sept. 23.&nbsp\;</span></p>\n
LOCATION:Capitol Street\, between Quarrier and Lee
UID:e.1499.1921
SEQUENCE:3
DTSTAMP:20260419T175002Z
URL:https://business.charlestonareaalliance.org/events/details/downtown-streetfest-july-2017-1921
END:VEVENT

END:VCALENDAR
