BEGIN:VCALENDAR
VERSION:2.0
PRODID:-//ChamberMaster//Event Calendar 2.0//EN
METHOD:PUBLISH
X-PUBLISHED-TTL:P3D
REFRESH-INTERVAL:P3D
CALSCALE:GREGORIAN
BEGIN:VEVENT
DTSTART:20150718T193000Z
DTEND:20150719T000000Z
X-MICROSOFT-CDO-ALLDAYEVENT:FALSE
SUMMARY:Downtown Streetfest - July 2015
DESCRIPTION:The Charleston Area Alliance will launch its downtown block party series Downtown Streetfest Saturday\, July 18.\n\n\n\nMeet up with friends and family between 3:30 and 8 p.m. along Capitol Street\, between Quarrier and Lee\, for live music\, food and drinks\, kid's activities\, pop-up shops and much more.\n\n\n\nEighties tribute band Eighties Enough will headline the free event. It's going to be\, like\, totally awesome! Make plans now to come to Capitol Street\, grab a bite to eat at your favorite downtown establishments\, let the kid's play and listen to some tunes from your favorite Eighties mixed tape.\n\n\n\nThe event is sponsored by Sierra Nevada and North Central Distributors\, along with support from Tony The Tailor\, the Charleston WV Convention & Visitors Bureau and the Kanawha County Public Library.\n\n\n\nMany downtown retailers and restaurants have special programming planned for the event\, along with post-event live music and food and drink offerings.\n\n\n\nThe July 18 Downtown Streetfest is the first of the two block parties scheduled for this summer. The second event will be Aug. 22 with local favorite the VooDoo Katz headlining. Downtown Streetfest stems from the Imagine Charleston Downtown Redevelopment Plan.
X-ALT-DESC;FMTTYPE=text/html:<span style="color: rgb(20\, 24\, 35)\;">The <a href="https://www.facebook.com/pages/Charleston-Area-Alliance/106843632683936"><span style="text-decoration: none\; text-underline: none\;"><span style="color: rgb(59\, 89\, 152)\;">Charleston Area Alliance</span></span></a> will launch its downtown block party series Downtown Streetfest Saturday\, July 18.<br />\n<br />\nMeet up with friends and family between 3:30 and 8 p.m. along Capitol Street\, between Quarrier and Lee\, for live music\, food and drinks\, kid&#39\;s activities\, pop-up shops and much more.<br />\n<br />\nEighties tribute band Eighties Enough will headline the free event. It&#39\;s going to be\, like\, totally awesome! Make plans now to come to Capitol Street\, grab a bite to eat at your favorite downtown establishments\, let the kid&#39\;s play and listen to some tunes from your favorite Eighties mixed tape.<br />\n<br />\nThe event is sponsored by Sierra Nevada and North Central Distributors\, along with support from <a href="https://www.facebook.com/tonythetailorwv" id="js_1b"><span style="text-decoration: none\; text-underline: none\;"><span style="color: rgb(59\, 89\, 152)\;">Tony The Tailor</span></span></a>\, the <a href="https://www.facebook.com/CharlestonWVCVB"><span style="text-decoration: none\; text-underline: none\;"><span style="color: rgb(59\, 89\, 152)\;">Charleston WV Convention &amp\; Visitors Bureau</span></span></a> and the <a href="https://www.facebook.com/KanawhaLibrary"><span style="text-decoration: none\; text-underline: none\;"><span style="color: rgb(59\, 89\, 152)\;">Kanawha County Public Library</span></span></a>.<br />\n<br />\nMany downtown retailers and restaurants have special programming planned for the event\, along with post-event live music and food and drink offerings.<br />\n<br />\nThe July 18 Downtown Streetfest is the first of the two block parties scheduled for this summer. The second event will be Aug. 22 with local favorite the VooDoo Katz headlining. Downtown Streetfest stems from the <a href="https://www.facebook.com/ImagineCharleston"><span style="text-decoration: none\; text-underline: none\;"><span style="color: rgb(59\, 89\, 152)\;">Imagine Charleston</span></span></a> Downtown Redevelopment Plan.</span><br />\n&nbsp\;
LOCATION:Capitol Street\, between Quarrier and Lee
UID:e.1499.796
SEQUENCE:3
DTSTAMP:20260421T020151Z
URL:https://business.charlestonareaalliance.org/events/details/downtown-streetfest-july-2015-07-18-2015-796
END:VEVENT

END:VCALENDAR
