BEGIN:VCALENDAR
VERSION:2.0
PRODID:-//ChamberMaster//Event Calendar 2.0//EN
METHOD:PUBLISH
X-PUBLISHED-TTL:P3D
REFRESH-INTERVAL:P3D
CALSCALE:GREGORIAN
BEGIN:VEVENT
DTSTART:20170826T203000Z
DTEND:20170827T010000Z
X-MICROSOFT-CDO-ALLDAYEVENT:FALSE
SUMMARY:Downtown Streetfest - Aug 2017
DESCRIPTION:Head down to Capitol Street for the Downtown Streetfest block party Saturday\, Aug. 26 with the Voo-Doo Katz.\n\n\n\nMeet up with friends and family between 4:30 and 9 p.m. for live music\, food and drinks\, kid's activities\, pop-up shops and much more. Grab a bite to eat at your favorite downtown establishments and listen to some live music.\n\n\n\nThe event coincides with the Kanawha River Navy annual Funeral Parade. The parade will kickoff at 5 p.m. on the corner of Kanawha Boulevard and Capitol Street and parade through to Downtown Streetfest. \n\n\n\nThe event is presented with title sponsorship support from City National Bank\, beverage sponsorship from Capitol Beverage Company and Sprigg's Distributing Company\, placemaking sponsorship from GAI Community Solutions Group and the Charleston Convention & Visitor's Bureau\, and supporting sponsorship support from the Kanawha County Public Library and Tony the Tailor. \n\n\n\nA Downtown Streetfest block party is also scheduled for Saturday\, Sept. 23.
X-ALT-DESC;FMTTYPE=text/html:<p>Head down to Capitol Street for the Downtown Streetfest&nbsp\;block party Saturday\, Aug. 26 with the Voo-Doo Katz.<br />\n<br />\n<span style="color: rgb(20\, 24\, 35)\;">Meet up with friends and family between 4:30 and&nbsp\;9 p.m. for live music\, food and drinks\, kid&#39\;s activities\, pop-up shops and much more. Grab a bite to eat at your favorite downtown establishments and listen to some live music.<br />\n<br />\nThe event coincides with the Kanawha River Navy annual Funeral Parade. The parade will kickoff at 5 p.m. on the corner of Kanawha&nbsp\;Boulevard and Capitol Street and parade through to Downtown Streetfest.&nbsp\;<br />\n<br />\nThe event is presented with title sponsorship support from&nbsp\;City National Bank\, beverage sponsorship from Capitol Beverage Company and Sprigg&#39\;s Distributing Company\, placemaking&nbsp\;sponsorship from GAI Community Solutions Group and the Charleston Convention &amp\; Visitor&#39\;s Bureau\, and supporting sponsorship support from the&nbsp\;Kanawha County Public Library and Tony the Tailor.&nbsp\;</span><br />\n<br />\n<span style="color: rgb(20\, 24\, 35)\;">A Downtown Streetfest&nbsp\;block party is also scheduled for&nbsp\;Saturday\, Sept. 23.&nbsp\;</span></p>\n
LOCATION:Capitol Street\, between Quarrier and Lee
UID:e.1499.1922
SEQUENCE:3
DTSTAMP:20260419T174937Z
URL:https://business.charlestonareaalliance.org/events/details/downtown-streetfest-aug-2017-1922
END:VEVENT

END:VCALENDAR
