BEGIN:VCALENDAR
VERSION:2.0
PRODID:-//ChamberMaster//Event Calendar 2.0//EN
METHOD:PUBLISH
X-PUBLISHED-TTL:P3D
REFRESH-INTERVAL:P3D
CALSCALE:GREGORIAN
BEGIN:VEVENT
DTSTART:20160820T203000Z
DTEND:20160821T010000Z
X-MICROSOFT-CDO-ALLDAYEVENT:FALSE
SUMMARY:Downtown Streetfest - Aug. 2016
DESCRIPTION:The Charleston Area Alliance Downtown Streetfest summer block party series will return Saturday\, Aug. 20. \n\n\n\nMeet up with friends and family between 4:30 and 9 p.m. along Capitol Street\, between Quarrier and Lee\, for live music\, food and drinks\, kid's activities\, pop-up shops and much more.\n\n\n\nMake plans now to come to Capitol Street\, grab a bite to eat at your favorite downtown establishments\, let the kid's play and listen to some live music.\n\n\n\nThe event is sponsored by Sierra Nevada and North Central Distributors\, along with support from Tony The Tailor\, the Charleston WV Convention & Visitors Bureau and the Kanawha County Public Library.\n\n\n\nMany downtown retailers and restaurants have special programming planned for the event\, along with post-event live music and food and drink offerings.\n\n\n\nDowntown Streetfest events are also scheduled for Saturday\, May 21 and Saturday\, July 23 on Capitol Street between Quarrier and Lee and Saturday\, Sept. 17 on Capitol Street between Kanawha Boulevard and Quarrier Street. \n\nDowntown Streetfest stems from the Imagine Charleston Downtown Redevelopment Plan.
X-ALT-DESC;FMTTYPE=text/html:<p><span style="color: rgb(20\, 24\, 35)\;">The <a href="https://www.facebook.com/pages/Charleston-Area-Alliance/106843632683936"><span style="text-decoration: none\; text-underline: none\;"><span style="color: rgb(59\, 89\, 152)\;">Charleston Area Alliance</span></span></a>&nbsp\;Downtown Streetfest&nbsp\;summer block party series&nbsp\;will return Saturday\, Aug. 20.&nbsp\;<br />\n<br />\nMeet up with friends and family between 4:30 and&nbsp\;9 p.m. along Capitol Street\, between Quarrier and Lee\, for live music\, food and drinks\, kid&#39\;s activities\, pop-up shops and much more.<br />\n<br />\nMake plans now to come to Capitol Street\, grab a bite to eat at your favorite downtown establishments\, let the kid&#39\;s play and listen to some live music.<br />\n<br />\nThe event is sponsored by Sierra Nevada and North Central Distributors\, along with support from <a href="https://www.facebook.com/tonythetailorwv" id="js_1b"><span style="text-decoration: none\; text-underline: none\;"><span style="color: rgb(59\, 89\, 152)\;">Tony The Tailor</span></span></a>\, the <a href="https://www.facebook.com/CharlestonWVCVB"><span style="text-decoration: none\; text-underline: none\;"><span style="color: rgb(59\, 89\, 152)\;">Charleston WV Convention &amp\; Visitors Bureau</span></span></a> and the <a href="https://www.facebook.com/KanawhaLibrary"><span style="text-decoration: none\; text-underline: none\;"><span style="color: rgb(59\, 89\, 152)\;">Kanawha County Public Library</span></span></a>.<br />\n<br />\nMany downtown retailers and restaurants have special programming planned for the event\, along with post-event live music and food and drink offerings.<br />\n<br />\nDowntown Streetfest&nbsp\;events are also scheduled for Saturday\, May 21&nbsp\;and Saturday\, July 23&nbsp\;on&nbsp\;Capitol Street between Quarrier and Lee and Saturday\, Sept. 17 on&nbsp\;Capitol Street between Kanawha&nbsp\;Boulevard and Quarrier Street.&nbsp\;</span></p>\n\n<p><span style="color: rgb(20\, 24\, 35)\;">Downtown Streetfest stems from the <a href="https://www.facebook.com/ImagineCharleston"><span style="text-decoration: none\; text-underline: none\;"><span style="color: rgb(59\, 89\, 152)\;">Imagine Charleston</span></span></a> Downtown Redevelopment Plan.</span><br />\n&nbsp\;</p>\n
LOCATION:Capitol Street\, between Quarrier and Lee
UID:e.1499.852
SEQUENCE:3
DTSTAMP:20260420T081321Z
URL:https://business.charlestonareaalliance.org/events/details/downtown-streetfest-aug-2016-08-20-2016-852
END:VEVENT

END:VCALENDAR
