BEGIN:VCALENDAR
VERSION:2.0
PRODID:-//ChamberMaster//Event Calendar 2.0//EN
METHOD:PUBLISH
X-PUBLISHED-TTL:P3D
REFRESH-INTERVAL:P3D
CALSCALE:GREGORIAN
BEGIN:VEVENT
DTSTART:20150822T193000Z
DTEND:20150823T000000Z
X-MICROSOFT-CDO-ALLDAYEVENT:FALSE
SUMMARY:Downtown Streetfest - Aug. 2015
DESCRIPTION:The Charleston Area Alliance's downtown block party series Downtown Streetfest is back Saturday\, Aug. 22.\n\n\n\nMeet up with friends and family between 3:30 and 8 p.m. along Capitol Street\, between Quarrier and Lee\, for live music\, food and drinks\, kid's activities\, pop-up shops and much more.\n\n\n\nThe VooDoo Katz will headline the free event. Make plans now to come to Capitol Street\, grab a bite to eat at your favorite downtown establishments\, let the kid's play and listen to some music.\n\n\n\nThe event is sponsored by Sierra Nevada and North Central Distributors\, along with support from Tony The Tailor\, the Charleston WV Convention & Visitors Bureau and the Kanawha County Public Library.\n\n\n\nMany downtown retailers and restaurants have special programming planned for the event\, along with post-event live music and food and drink offerings.\n\n\n\nDowntown Streetfest Aug. 22 is the second of the two event block party series. Downtown Streetfest stems from the Imagine Charleston Downtown Redevelopment Plan.
X-ALT-DESC;FMTTYPE=text/html:<span style="color: rgb(20\, 24\, 35)\;">The <a href="https://www.facebook.com/pages/Charleston-Area-Alliance/106843632683936"><span style="text-decoration: none\; text-underline: none\;"><span style="color: rgb(59\, 89\, 152)\;">Charleston Area Alliance</span></span></a>&#39\;s&nbsp\;downtown block party series Downtown Streetfest is back Saturday\, Aug. 22.<br />\n<br />\nMeet up with friends and family between 3:30 and 8 p.m. along Capitol Street\, between Quarrier and Lee\, for live music\, food and drinks\, kid&#39\;s activities\, pop-up shops and much more.<br />\n<br />\nThe VooDoo Katz&nbsp\;will headline the free event. Make plans now to come to Capitol Street\, grab a bite to eat at your favorite downtown establishments\, let the kid&#39\;s play and listen to some music.<br />\n<br />\nThe event is sponsored by Sierra Nevada and North Central Distributors\, along with support from <a href="https://www.facebook.com/tonythetailorwv" id="js_1b"><span style="text-decoration: none\; text-underline: none\;"><span style="color: rgb(59\, 89\, 152)\;">Tony The Tailor</span></span></a>\, the <a href="https://www.facebook.com/CharlestonWVCVB"><span style="text-decoration: none\; text-underline: none\;"><span style="color: rgb(59\, 89\, 152)\;">Charleston WV Convention &amp\; Visitors Bureau</span></span></a> and the <a href="https://www.facebook.com/KanawhaLibrary"><span style="text-decoration: none\; text-underline: none\;"><span style="color: rgb(59\, 89\, 152)\;">Kanawha County Public Library</span></span></a>.<br />\n<br />\nMany downtown retailers and restaurants have special programming planned for the event\, along with post-event live music and food and drink offerings.<br />\n<br />\nDowntown Streetfest Aug. 22 is the second of the two event block party series. Downtown Streetfest stems from the <a href="https://www.facebook.com/ImagineCharleston"><span style="text-decoration: none\; text-underline: none\;"><span style="color: rgb(59\, 89\, 152)\;">Imagine Charleston</span></span></a> Downtown Redevelopment Plan.</span><br />\n&nbsp\;
LOCATION:Capitol Street\, between Quarrier and Lee
UID:e.1499.797
SEQUENCE:3
DTSTAMP:20260421T003318Z
URL:https://business.charlestonareaalliance.org/events/details/downtown-streetfest-aug-2015-08-22-2015-797
END:VEVENT

END:VCALENDAR
