BEGIN:VCALENDAR
VERSION:2.0
PRODID:-//ChamberMaster//Event Calendar 2.0//EN
METHOD:PUBLISH
X-PUBLISHED-TTL:P3D
REFRESH-INTERVAL:P3D
CALSCALE:GREGORIAN
BEGIN:VEVENT
DTSTART;VALUE=DATE:20160625
DTEND;VALUE=DATE:20160711
TRANSP:TRANSPARENT
X-MICROSOFT-CDO-ALLDAYEVENT:TRUE
SUMMARY:Downtown Open - June 2016
DESCRIPTION:The Charleston Area Alliance will present the inaugural Downtown Open\, a temporary putt-putt course setup along sidewalks\, walkways and green spaces of Downtown Charleston Saturday\, June 25 - Sunday\, July 10. Each hole is customized with decor and obstacles by a business sponsor\, resulting in a unique\, one-of-a-kind miniature golf course.\n\n\n\nDowntown Open hole sponsors include: \n\n\n\nBrickStreet Insurance\n\nCharleston Urban Renewal Authority\n\nCity of Charleston\, WV\n\nKanawha County Public Library\n\nBrewer & Company of WV\, Inc.\n\nTgraphics\n\nDelfine's Jewelry\n\nGAI Consultants\n\nCapitol Conference Center\n\nCharleston WV Convention & Visitors Bureau\n\nGirl Scouts of Black Diamond Council\n\nCity National Bank (WV-OH-KY-VA)\n\nSpilman Thomas & Battle\, PLLC\n\nVirginia Lee\n\nZMM Architects & Engineers\n\nCharleston Stormwater Program\n\nBen Franklin Career Center\n\nGeneration Charleston\n\nTony The Tailor\n\nArt Emporium\n\nWest Virginia American Water\n\nPickering Associates\n\nAdvantage Technology\n\nTaylor Books\n\nQuarrier Diner\n\n\n\nThe Go to Hale block party Saturday\, July 25 will serve as the kick-off for Downtown Open and all putt-putt holes will be placed along Hale Street for this event.\n\n\n\nFollowing Go to Hale\, the Charleston Area Alliance will transport the golf holes to various spaces downtown where they will reside until Sunday\, July 10.\n\n\n\nDowntown Open is free to play and players are encouraged to bring their own putters. Course maps\, scorecards and a select number of putters/golf balls will be available to borrow at select downtown merchants during their respective business hours. Click here for the Downtown Open Google map. \n\n\n\nSuccessfully implemented by other downtown associations across the U.S.\, Downtown Open is a unique one-of-a-kind miniature golf course that enhances our mission of making Downtown Charleston even more economically vibrant\, walkable and culturally alive.
X-ALT-DESC;FMTTYPE=text/html:The Charleston Area Alliance will present the inaugural Downtown Open\, a temporary putt-putt course setup along sidewalks\, walkways and green spaces of Downtown Charleston Saturday\, June 25 - Sunday\, July 10. Each hole is customized with decor and obstacles by a business sponsor\, resulting in a unique\, one-of-a-kind miniature golf course.<br />\n<br />\nDowntown Open hole sponsors include:&nbsp\;<br />\n<br />\nBrickStreet Insurance<br />\nCharleston Urban Renewal Authority<br />\nCity of Charleston\, WV<br />\nKanawha County Public Library<br />\nBrewer &amp\; Company of WV\, Inc.<br />\nTgraphics<br />\nDelfine&#39\;s Jewelry<br />\nGAI Consultants<br />\nCapitol Conference Center<br />\nCharleston WV Convention &amp\; Visitors Bureau<br />\nGirl Scouts of Black Diamond Council<br />\nCity National Bank (WV-OH-KY-VA)<br />\nSpilman Thomas &amp\; Battle\, PLLC<br />\nVirginia Lee<br />\nZMM Architects &amp\; Engineers<br />\nCharleston Stormwater Program<br />\nBen Franklin Career Center<br />\nGeneration Charleston<br />\nTony The Tailor<br />\nArt Emporium<br />\nWest Virginia American Water<br />\nPickering Associates<br />\nAdvantage Technology<br />\nTaylor Books<br />\nQuarrier Diner<br />\n<br />\nThe Go to Hale block party Saturday\, July 25 will serve as the kick-off for Downtown Open and all putt-putt holes will be placed along Hale Street for this event.<br />\n<br />\nFollowing Go to Hale\, the Charleston Area Alliance will transport the golf holes to various spaces downtown where they will reside until Sunday\, July 10.<br />\n<br />\n<span style="color: rgb(51\, 51\, 51)\; font-family: sans-serif\, Arial\, Verdana\,\;" trebuchet="">Downtown Open is free to play and players are encouraged to bring their own putters.&nbsp\;</span><a href="https://chambermaster.blob.core.windows.net/userfiles/UserFiles/chambers/1499/File/Open.pdf" style="color: rgb(7\, 130\, 193)\; font-family: sans-serif\, Arial\, Verdana\,\;" trebuchet="">Course maps</a><span style="color: rgb(51\, 51\, 51)\; font-family: sans-serif\, Arial\, Verdana\,\;" trebuchet="">\, scorecards and a select number of putters/golf balls will be available to borrow at select downtown merchants during their respective business hours.&nbsp\;</span><a href="https://drive.google.com/open?id=1FSFAWP6gDWF0ZRaEVpQoAzBqRls&amp\;usp=sharing" target="_blank">Click here</a> for the Downtown Open Google map.&nbsp\;<br />\n<br />\nSuccessfully implemented by other downtown associations across the U.S.\, Downtown Open is a unique one-of-a-kind miniature golf course that enhances our mission of making Downtown Charleston even more economically vibrant\, walkable and culturally alive.
LOCATION:Downtown Charleston. Pickup course maps with scorecards at select Downtown Charleston merchants. Click here for the Downtown Open Google map.
UID:e.1499.855
SEQUENCE:3
DTSTAMP:20260420T092945Z
URL:https://business.charlestonareaalliance.org/events/details/downtown-open-june-2016-855
END:VEVENT

END:VCALENDAR
