BEGIN:VCALENDAR
VERSION:2.0
PRODID:-//ChamberMaster//Event Calendar 2.0//EN
METHOD:PUBLISH
X-PUBLISHED-TTL:P3D
REFRESH-INTERVAL:P3D
CALSCALE:GREGORIAN
BEGIN:VEVENT
DTSTART;VALUE=DATE:20170624
DTEND;VALUE=DATE:20170709
TRANSP:TRANSPARENT
X-MICROSOFT-CDO-ALLDAYEVENT:TRUE
SUMMARY:Downtown Open - 2017
DESCRIPTION:The Charleston Area Alliance will present its second Downtown Open pop-up putt-putt course June 24 - Saturday\, July 8 along the sidewalks of downtown Charleston. \n\n\n\nEach hole is sponsored and customized by local business sponsors\, resulting in a unique one-of-a kind miniature golf course. Pickup a scorecard and map and play for free. Bring your own putter and ball or borrow from participating businesses.\n\n\n\nParticipating hole sponsors include:\n\n\n\nAdvantage Technology\n\nAppalachian Power\n\nBen Franklin\n\nBrewer & Company of WV\, Inc.\n\nC&H Taxi\n\nCapitol Conference Center\n\nCapitol Market - Charleston\, WV\n\nCity National Bank (WV-OH-KY-VA)\n\nCity of Charleston\, WV\n\nCharleston\, WV Parks and Recreation\n\nCharleston Stormwater Program\n\nDelfine's Jewelry\n\nKanawha County Public Library\n\nMembers Choice WV Federal Credit Union\n\nPickering Associates\n\nPioneer WV Federal Credit Union\n\nPray Construction Company\n\nThe State Journal\n\nThe Thrasher Group\, Inc\n\nTony The Tailor\n\nTwoDogBlog\n\nWest Virginia American Water\n\nWest Virginia Eye Consultants\n\nWest Virginia Radio Corporation (Tailgate 107.3)\n\n\n\nDowntown Open is sponsored by Central Van & Storage\, Inc. and Tony the Tailor.
X-ALT-DESC;FMTTYPE=text/html:<span helvetica="" style="font-family: Oxygen\, Arial\,\;">The Charleston Area Alliance will present its second Downtown Open pop-up putt-putt course June 24 - Saturday\, July 8 along the sidewalks of downtown Charleston.&nbsp\;<br>\n<br>\nEach hole is sponsored and customized by local business sponsors\, resulting in a unique one-of-a kind miniature golf course. Pickup a scorecard and map and play for free. Bring your own putter and ball or borrow from participating businesses.<br>\n<br>\nParticipating hole sponsors include:</span><br>\n<br>\n<span helvetica="" style="font-family: Oxygen\, Arial\,\;">Advantage Technology<br>\nAppalachian Power<br>\nBen Franklin<br>\nBrewer &amp\; Company of WV\, Inc.<br>\nC&amp\;H Taxi<br>\nCapitol Conference Center<br>\nCapitol Market - Charleston\, WV<br>\nCity National Bank (WV-OH-KY-VA)<br>\nCity of Charleston\, WV<br>\nCharleston\, WV Parks and Recreation<br>\nCharleston Stormwater Program<br>\nDelfine's Jewelry<br>\nKanawha County Public Library<br>\nMembers Choice WV Federal Credit Union<br>\nPickering Associates<br>\nPioneer WV Federal Credit Union<br>\nPray Construction Company<br>\nThe State Journal<br>\nThe Thrasher Group\, Inc<br>\nTony The Tailor<br>\nTwoDogBlog<br>\nWest Virginia American Water<br>\nWest Virginia Eye Consultants<br>\nWest Virginia Radio Corporation (Tailgate 107.3)</span><br>\n<br>\n<span helvetica="" style="font-family: Oxygen\, Arial\,\;">Downtown Open is sponsored by&nbsp\;Central Van &amp\; Storage\, Inc. and Tony the Tailor.&nbsp\;</span>
LOCATION:Downtown Open putt-putt holes are placed throughout downtown Charleston. Click here for the event map.
UID:e.1499.1927
SEQUENCE:3
DTSTAMP:20260419T174712Z
URL:https://business.charlestonareaalliance.org/events/details/downtown-open-2017-1927
END:VEVENT

END:VCALENDAR
