BEGIN:VCALENDAR
VERSION:2.0
PRODID:-//ChamberMaster//Event Calendar 2.0//EN
METHOD:PUBLISH
X-PUBLISHED-TTL:P3D
REFRESH-INTERVAL:P3D
CALSCALE:GREGORIAN
BEGIN:VEVENT
DTSTART:20151121T150000Z
DTEND:20151121T220000Z
X-MICROSOFT-CDO-ALLDAYEVENT:FALSE
SUMMARY:Downtown Charleston - Holiday Hop Open House
DESCRIPTION:Downtown Charleston retailers kickoff the holiday season Saturday\, Nov. 21 with Holiday Hop Open House. Stop in participating stores and galleries for extended hours\, special sales and warm greetings.\n\n\n\nPickup holiday fashions for yourself and gifts for friends friends and family. Explore clothing shops\, quaint boutiques\, art galleries and antique stores.\n\n\n\nDowntown retailers will also launch the Downtown Charleston Passport during Holiday Hop. Pick one up at a participating Downtown Charleston retailer and show your support for small businesses by visiting participating stores and getting it stamped. Each stamp gets you something special - like a discount or a hot chocolate - when you shop at partipating Downtown Charleston retailers throughout the holiday season. Get your Downtown Charleston Passport stamped by all participating retailers for chances to win weekly prizes.\n\n\n\nHoliday Hop participating retailers include: Art Emporium\, Boutique by B.Belle Events\, Delfine's Jewelry\, Gallery Eleven\, Heidi Dylan\, House of Luxe\, Ivor's Trunk\, Morgan Rhea\, Stray Dog Antiques\, Taylor Books\, The Art Store\, The Initialed Life/Virginia Lee\, The Purple Moon/Modern by Design and Tony the Tailor.\n\n\n\nHoliday Hop is coordinated by the Charleston Area Alliance.
X-ALT-DESC;FMTTYPE=text/html:Downtown Charleston retailers kickoff the holiday season Saturday\, Nov. 21 with Holiday Hop Open House. Stop in participating stores and galleries for extended hours\, special sales and warm greetings.<br />\n<br />\nPickup holiday fashions for yourself and gifts for friends friends and family. Explore clothing shops\, quaint boutiques\, art galleries and antique stores.<br />\n<br />\nDowntown retailers will also launch the Downtown Charleston Passport during Holiday Hop. Pick one up at a participating Downtown Charleston retailer and show your support for small businesses by visiting participating stores and getting it stamped. Each stamp gets you something special - like a discount or a hot chocolate - when you shop at partipating Downtown Charleston retailers throughout the holiday season. Get your Downtown Charleston Passport stamped by all participating retailers for chances to win weekly prizes.<br />\n<br />\nHoliday Hop participating retailers include:&nbsp\;Art Emporium\, Boutique by B.Belle Events\, Delfine&#39\;s Jewelry\, Gallery Eleven\, Heidi Dylan\, House of Luxe\, Ivor&#39\;s Trunk\, Morgan Rhea\, Stray Dog Antiques\, Taylor Books\, The Art Store\, The Initialed Life/Virginia Lee\, The Purple Moon/Modern by Design and Tony the Tailor.<br />\n<br />\nHoliday Hop is coordinated by the Charleston Area Alliance.
LOCATION:Participating retailers throughout Downtown Charleston
UID:e.1499.816
SEQUENCE:3
DTSTAMP:20260420T200950Z
URL:https://business.charlestonareaalliance.org/events/details/downtown-charleston-holiday-hop-open-house-11-21-2015-816
END:VEVENT

END:VCALENDAR
