BEGIN:VCALENDAR
VERSION:2.0
PRODID:-//ChamberMaster//Event Calendar 2.0//EN
METHOD:PUBLISH
X-PUBLISHED-TTL:P3D
REFRESH-INTERVAL:P3D
CALSCALE:GREGORIAN
BEGIN:VEVENT
DTSTART:20151024T150000Z
DTEND:20151024T220000Z
X-MICROSOFT-CDO-ALLDAYEVENT:FALSE
SUMMARY:Downtown Charleston Boutique Walk
DESCRIPTION:Stroll\, shop and discover at Boutique Walk 10 a.m. to 5 p.m. Saturday\, Oct. 24 at participating retailers throughout Downtown Charleston.\n\n\n\nStop in downtown boutiques for in-store promotions\, trunk shows\, demos\, hands-on activites and more. Included in the mix is a diverse mix of unique shops\, quaint boutiques\, art galleries and antique stores.\n\n\n\nParticipating retailers include: Art Emporium\, The Boutique by B.Belle Events\, Delfine's Jewelry\, Gallery Eleven\, Heidi Dylan\, House of Luxe\, Ivor's Trunk\, Morgan Rhea\, Stray Dog Antiques\, TheArt Store\, The Initialed Life/Virginia Lee and Tony The Tailor.\n\n\n\nBoutique Walk is coordinated by the Charleston Area Alliance and is a FestivALL Fall event.
X-ALT-DESC;FMTTYPE=text/html:Stroll\, shop and discover at Boutique Walk 10 a.m. to 5 p.m. Saturday\, Oct. 24 at participating retailers throughout Downtown Charleston.<br />\n<br />\nStop in downtown boutiques for in-store promotions\, trunk shows\, demos\, hands-on <span data-scayt-lang="en_US" data-scayt-word="activites">activites</span> and more. Included in the mix is a diverse mix of unique shops\, quaint boutiques\, art galleries and antique stores.<br />\n<br />\nParticipating retailers include: <a data-hovercard="/ajax/hovercard/page.php?id=107590372604768&amp\;extragetparams=%7B%22directed_target_id%22%3A1613457568919136%7D" href="https://www.facebook.com/ArtEmporiumWV"><span style="color: rgb(0\, 102\, 204)\;">Art Emporium</span></a>\, <a data-hovercard="/ajax/hovercard/page.php?id=729559847088935&amp\;extragetparams=%7B%22directed_target_id%22%3A1613457568919136%7D" href="https://www.facebook.com/boutiquebybbe"><span style="color: rgb(0\, 102\, 204)\;">The Boutique by B.Belle Events</span></a>\, <a data-hovercard="/ajax/hovercard/page.php?id=196800461200&amp\;extragetparams=%7B%22directed_target_id%22%3A1613457568919136%7D" href="https://www.facebook.com/DelfinesJewelry"><span style="color: rgb(0\, 102\, 204)\;"><span data-scayt-lang="en_US" data-scayt-word="Delfine's">Delfine&#39\;s</span> Jewelry</span></a>\, <a data-hovercard="/ajax/hovercard/page.php?id=369358861437&amp\;extragetparams=%7B%22directed_target_id%22%3A1613457568919136%7D" href="https://www.facebook.com/pages/Gallery-Eleven/369358861437"><span style="color: rgb(0\, 102\, 204)\;">Gallery Eleven</span></a>\, <a data-hovercard="/ajax/hovercard/page.php?id=143656739000938&amp\;extragetparams=%7B%22directed_target_id%22%3A1613457568919136%7D" href="https://www.facebook.com/heididylanboutique"><span style="color: rgb(0\, 102\, 204)\;">Heidi Dylan</span></a>\, <a data-hovercard="/ajax/hovercard/page.php?id=182051805217554&amp\;extragetparams=%7B%22directed_target_id%22%3A1613457568919136%7D" href="https://www.facebook.com/HouseofLuxeWV"><span style="color: rgb(0\, 102\, 204)\;">House of <span data-scayt-lang="en_US" data-scayt-word="Luxe">Luxe</span></span></a>\, Ivor&rsquo\;s Trunk\, <a data-hovercard="/ajax/hovercard/page.php?id=485015908301169&amp\;extragetparams=%7B%22directed_target_id%22%3A1613457568919136%7D" href="https://www.facebook.com/morganrheaaccessories"><span style="color: rgb(0\, 102\, 204)\;">Morgan Rhea</span></a>\, <a data-hovercard="/ajax/hovercard/page.php?id=134576016635980&amp\;extragetparams=%7B%22directed_target_id%22%3A1613457568919136%7D" href="https://www.facebook.com/straydogantiques"><span style="color: rgb(0\, 102\, 204)\;">Stray Dog Antiques</span></a>\, <a data-hovercard="/ajax/hovercard/page.php?id=1481533262128687&amp\;extragetparams=%7B%22directed_target_id%22%3A1613457568919136%7D" href="https://www.facebook.com/theart.store"><span style="color: rgb(0\, 102\, 204)\;"><span data-scayt-lang="en_US" data-scayt-word="TheArt">TheArt</span> Store</span></a>\, <a data-hovercard="/ajax/hovercard/page.php?id=529343063797240&amp\;extragetparams=%7B%22directed_target_id%22%3A1613457568919136%7D" href="https://www.facebook.com/TheInitialedLife"><span style="color: rgb(0\, 102\, 204)\;">The Initialed Life</span></a>/<a data-hovercard="/ajax/hovercard/page.php?id=1554790828139578&amp\;extragetparams=%7B%22directed_target_id%22%3A1613457568919136%7D" href="https://www.facebook.com/shopvirginialee"><span style="color: rgb(0\, 102\, 204)\;">Virginia Lee</span></a> and <a data-hovercard="/ajax/hovercard/page.php?id=139473562739465&amp\;extragetparams=%7B%22directed_target_id%22%3A1613457568919136%7D" href="https://www.facebook.com/tonythetailorwv"><span style="color: rgb(0\, 102\, 204)\;">Tony The Tailor</span></a>.<br />\n<br />\nBoutique Walk is coordinated by the <a data-hovercard="/ajax/hovercard/page.php?id=106843632683936&amp\;extragetparams=%7B%22directed_target_id%22%3A1613457568919136%7D" href="https://www.facebook.com/pages/Charleston-Area-Alliance/106843632683936"><span style="color: rgb(0\, 102\, 204)\;">Charleston Area Alliance</span></a> and is a <a data-hovercard="/ajax/hovercard/page.php?id=228597631998&amp\;extragetparams=%7B%22directed_target_id%22%3A1613457568919136%7D" href="https://www.facebook.com/festivallcharleston"><span style="color: rgb(0\, 102\, 204)\;"><span data-scayt-lang="en_US" data-scayt-word="FestivALL">FestivALL</span></span></a> Fall event.<br />\n<br />\n&nbsp\;
LOCATION:
UID:e.1499.812
SEQUENCE:3
DTSTAMP:20260420T213737Z
URL:https://business.charlestonareaalliance.org/events/details/downtown-charleston-boutique-walk-10-24-2015-812
END:VEVENT

END:VCALENDAR
