BEGIN:VCALENDAR
VERSION:2.0
PRODID:-//ChamberMaster//Event Calendar 2.0//EN
METHOD:PUBLISH
X-PUBLISHED-TTL:P3D
REFRESH-INTERVAL:P3D
CALSCALE:GREGORIAN
BEGIN:VEVENT
DTSTART:20100917T040000Z
DTEND:20100917T040000Z
X-MICROSOFT-CDO-ALLDAYEVENT:FALSE
SUMMARY:DigiTools-Photoshop-2nd Course September 2010
DESCRIPTION:
X-ALT-DESC;FMTTYPE=text/html:
LOCATION:WVSU Development Center
UID:e.1499.360
SEQUENCE:3
DTSTAMP:20260425T140508Z
URL:https://business.charlestonareaalliance.org/events/details/digitools-photoshop-2nd-course-september-2010-09-17-2010-360
END:VEVENT

END:VCALENDAR
