BEGIN:VCALENDAR
VERSION:2.0
PRODID:-//ChamberMaster//Event Calendar 2.0//EN
METHOD:PUBLISH
X-PUBLISHED-TTL:P3D
REFRESH-INTERVAL:P3D
CALSCALE:GREGORIAN
BEGIN:VEVENT
DTSTART:20111026T040000Z
DTEND:20111102T040000Z
X-MICROSOFT-CDO-ALLDAYEVENT:FALSE
SUMMARY:DigiTools-Microsoft Excel Training 2011
DESCRIPTION:
X-ALT-DESC;FMTTYPE=text/html:
LOCATION:Charleston Area Alliance
UID:e.1499.426
SEQUENCE:3
DTSTAMP:20260424T185010Z
URL:https://business.charlestonareaalliance.org/events/details/digitools-microsoft-excel-training-2011-10-26-2011-426
END:VEVENT

END:VCALENDAR
