BEGIN:VCALENDAR
VERSION:2.0
PRODID:-//ChamberMaster//Event Calendar 2.0//EN
METHOD:PUBLISH
X-PUBLISHED-TTL:P3D
REFRESH-INTERVAL:P3D
CALSCALE:GREGORIAN
BEGIN:VEVENT
DTSTART:20100910T040000Z
DTEND:20100910T040000Z
X-MICROSOFT-CDO-ALLDAYEVENT:FALSE
SUMMARY:DigiTools-Intro to Digital Photography-1st Course September 2010
DESCRIPTION:
X-ALT-DESC;FMTTYPE=text/html:
LOCATION:WVSU Development Center
UID:e.1499.359
SEQUENCE:3
DTSTAMP:20260425T125425Z
URL:https://business.charlestonareaalliance.org/events/details/digitools-intro-to-digital-photography-1st-course-september-2010-09-10-2010-359
END:VEVENT

END:VCALENDAR
