BEGIN:VCALENDAR
VERSION:2.0
PRODID:-//ChamberMaster//Event Calendar 2.0//EN
METHOD:PUBLISH
X-PUBLISHED-TTL:P3D
REFRESH-INTERVAL:P3D
CALSCALE:GREGORIAN
BEGIN:VEVENT
DTSTART:20101001T040000Z
DTEND:20101001T040000Z
X-MICROSOFT-CDO-ALLDAYEVENT:FALSE
SUMMARY:DigiTools-InDesign-4th Course 2010
DESCRIPTION:
X-ALT-DESC;FMTTYPE=text/html:
LOCATION:WVSU Development Center
UID:e.1499.362
SEQUENCE:3
DTSTAMP:20260425T113914Z
URL:https://business.charlestonareaalliance.org/events/details/digitools-indesign-4th-course-2010-10-01-2010-362
END:VEVENT

END:VCALENDAR
