BEGIN:VCALENDAR
VERSION:2.0
PRODID:-//ChamberMaster//Event Calendar 2.0//EN
METHOD:PUBLISH
X-PUBLISHED-TTL:P3D
REFRESH-INTERVAL:P3D
CALSCALE:GREGORIAN
BEGIN:VEVENT
DTSTART:20100924T040000Z
DTEND:20100924T040000Z
X-MICROSOFT-CDO-ALLDAYEVENT:FALSE
SUMMARY:DigiTools-Illustrator-3rd Course 2010
DESCRIPTION:
X-ALT-DESC;FMTTYPE=text/html:
LOCATION:WVSU - Development Center
UID:e.1499.361
SEQUENCE:3
DTSTAMP:20260425T125057Z
URL:https://business.charlestonareaalliance.org/events/details/digitools-illustrator-3rd-course-2010-09-24-2010-361
END:VEVENT

END:VCALENDAR
