BEGIN:VCALENDAR
VERSION:2.0
PRODID:-//ChamberMaster//Event Calendar 2.0//EN
METHOD:PUBLISH
X-PUBLISHED-TTL:P3D
REFRESH-INTERVAL:P3D
CALSCALE:GREGORIAN
BEGIN:VEVENT
DTSTART:20160418T153000Z
DTEND:20160418T170000Z
X-MICROSOFT-CDO-ALLDAYEVENT:FALSE
SUMMARY:Critical Thinking for Business Leadership Lunch & Learn (Tenants & Grow Program Only)
DESCRIPTION:Join the Charleston Area Alliance for a Lunch and Learn event focused on Critical Thinking for Business Leadership. This event is open to tenants of the CAA Business Incubator and current/past participants of the GROW Program. The event is free of charge.
X-ALT-DESC;FMTTYPE=text/html:Join the Charleston Area Alliance for a Lunch and Learn event focused on Critical Thinking for Business Leadership. This event is open to tenants of the CAA Business Incubator and current/past participants of the GROW Program. The event is free of charge.
LOCATION:Charleston Area Alliance First Floor Conference Room 1116 Smith Street Charleston\, WV 25301
UID:e.1499.858
SEQUENCE:3
DTSTAMP:20260420T132316Z
URL:https://business.charlestonareaalliance.org/events/details/critical-thinking-for-business-leadership-lunch-learn-tenants-grow-program-only-04-18-2016-858
END:VEVENT

END:VCALENDAR
