BEGIN:VCALENDAR
VERSION:2.0
PRODID:-//ChamberMaster//Event Calendar 2.0//EN
METHOD:PUBLISH
X-PUBLISHED-TTL:P3D
REFRESH-INTERVAL:P3D
CALSCALE:GREGORIAN
BEGIN:VEVENT
DTSTART:20170822T124500Z
DTEND:20170822T140000Z
X-MICROSOFT-CDO-ALLDAYEVENT:FALSE
SUMMARY:Coffee with a Cop - Morning Session
DESCRIPTION:Downtown Charleston business and property owners and Charleston Police Department officers will come together for Coffee with a Cop Tuesday\, Aug. 22 to voice concerns\, ask questions and get to know officers. \n\nCoffee with a Cop sessions are scheduled for 8:45 a.m. and 6:15 p.m. at Capitol Conference Center. Both events are free and open to the public. \n\n\n\nPresented by the Charleston Area Alliance in cooperation with theCharleston Police Department and City of Charleston Council Members Mary Jean Davis and Mary Beth Hoover\, Coffee with a Cop provides the opportunity for Downtown Charleston stakeholders to sit down with officers   over coffee   and ask questions or share what is on their mind.\n\n\n\nIn a short time\, business and property owners and police officers get to know each other and discover mutual goals for the community they work in and serve. \n\n\n\nCoffee with a Cop gives police officers opportunities\, outside of crisis situations\, to relax and chat with citizens in the community\, while the event provides business owners access and opportunity for distraction-free conversations with local officers.
X-ALT-DESC;FMTTYPE=text/html:<p>Downtown Charleston business and property owners and Charleston Police Department officers will come together for Coffee with a Cop Tuesday\, Aug. 22 to voice concerns\, ask questions and get to know officers.&nbsp\;</p>\n\n<p>Coffee with a Cop sessions are scheduled for 8:45 a.m. and 6:15 p.m.&nbsp\;at Capitol Conference Center. Both events are free and open to the public.&nbsp\;<br />\n<br />\nPresented by the Charleston Area Alliance in cooperation with theCharleston Police Department&nbsp\;and City of Charleston Council Members Mary Jean Davis and Mary Beth Hoover\, Coffee with a Cop provides the opportunity for Downtown Charleston stakeholders to sit down with officers &ndash\; over coffee &ndash\; and ask questions or share what is on their mind.<br />\n<br />\nIn a short time\, business and property owners and police officers get to know each other and discover mutual goals for the community they work in and serve.&nbsp\;<br />\n<br />\nCoffee with a Cop gives police officers opportunities\, outside of crisis situations\, to relax and chat with citizens in the community\, while the event provides business owners access and opportunity for distraction-free conversations with local officers.</p>\n
LOCATION:Capitol Conference Center 815 Lee St. E. Charleston\, WV 25301
UID:e.1499.1960
SEQUENCE:3
DTSTAMP:20260419T174840Z
URL:https://business.charlestonareaalliance.org/events/details/coffee-with-a-cop-morning-session-1960
END:VEVENT

END:VCALENDAR
