BEGIN:VCALENDAR
VERSION:2.0
PRODID:-//ChamberMaster//Event Calendar 2.0//EN
METHOD:PUBLISH
X-PUBLISHED-TTL:P3D
REFRESH-INTERVAL:P3D
CALSCALE:GREGORIAN
BEGIN:VEVENT
DTSTART:20170131T134500Z
DTEND:20170131T144500Z
X-MICROSOFT-CDO-ALLDAYEVENT:FALSE
SUMMARY:Coffee with a Cop
DESCRIPTION:Downtown Charleston business and property owners are invited for coffee and conversation with local police officers. No agenda or speeches\, just a chance to ask questions\, voice concerns and get to know officers on the downtown beat.
X-ALT-DESC;FMTTYPE=text/html:Downtown Charleston business and property owners are invited for coffee and conversation with local police officers. No agenda or speeches\, just a chance to ask questions\, voice concerns and get to know officers on the downtown beat.&nbsp\;
LOCATION:Capitol Conference Center 815 Lee Street East Charleston\, WV 25301
UID:e.1499.1901
SEQUENCE:3
DTSTAMP:20260420T010948Z
URL:https://business.charlestonareaalliance.org/events/details/coffee-with-a-cop-1901
END:VEVENT

END:VCALENDAR
