BEGIN:VCALENDAR
VERSION:2.0
PRODID:-//ChamberMaster//Event Calendar 2.0//EN
METHOD:PUBLISH
X-PUBLISHED-TTL:P3D
REFRESH-INTERVAL:P3D
CALSCALE:GREGORIAN
BEGIN:VEVENT
DTSTART:20100416T040000Z
DTEND:20100424T040000Z
X-MICROSOFT-CDO-ALLDAYEVENT:FALSE
SUMMARY:China Trade Mission 2010
DESCRIPTION:
X-ALT-DESC;FMTTYPE=text/html:
LOCATION:
UID:e.1499.290
SEQUENCE:3
DTSTAMP:20260425T194439Z
URL:https://business.charlestonareaalliance.org/events/details/china-trade-mission-2010-04-16-2010-290
END:VEVENT

END:VCALENDAR
