BEGIN:VCALENDAR
VERSION:2.0
PRODID:-//ChamberMaster//Event Calendar 2.0//EN
METHOD:PUBLISH
X-PUBLISHED-TTL:P3D
REFRESH-INTERVAL:P3D
CALSCALE:GREGORIAN
BEGIN:VEVENT
DTSTART:20130328T200000Z
DTEND:20130329T003000Z
X-MICROSOFT-CDO-ALLDAYEVENT:FALSE
SUMMARY:Charleston Business Showcase EXPO 2013
DESCRIPTION:SOLD OUT!\n\n	\n\n	Don't miss your opportunity to showcase your business to hundreds of area business and community leaders and young professionals at the Alliance's annual Charleston Business Showcase EXPO. This showcase\, held in conjunction with the Alliance's popular March Business After Hours\, is a premier venue for raising your company's visibility\, making new connections and forging relationships with clients and community leaders. The showcase sells out quickly\, so secure your place in the business spotlight and register today!\n\n	\n\n	EXPO Registration Information:\n\n	Registration includes 2 full admission tickets to Business After Hours\, expo table display from 5pm to 7pm during Business After Hours\, opportunity to provide one or more of the much-anticipated door prizes\, listing in program and e-blasts advertising the event.\n\n	\n\n	$275 Alliance members\n\n	$400 Future members\n\n	\n\n	*Early bird discount registration prices offered through March 8\, 2013:\n\n	$200 Alliance members\n\n	$375 future members\n\n	\n\n	Register online via the link above.\n\n	\n\n	If you work with an Alliance member-business and need assistance obtaining your password to access exclusive member-discounts\, please email Leigh Anne Strickland - Director\, Member Programs & Services. \n\n	 \n\n	Looking to purchase individual Business After Hours tickets for this event? Click here.
X-ALT-DESC;FMTTYPE=text/html:<p>\n	<span style="color:#b22222\;">SOLD OUT!</span><br />\n	<br />\n	Don&#39\;t miss your opportunity to showcase your business to hundreds of area business and community leaders and young professionals at the Alliance&#39\;s annual Charleston Business Showcase EXPO. This showcase\, held in conjunction with the Alliance&#39\;s popular March Business After Hours\, is a premier venue for raising your company&#39\;s visibility\, making new connections and forging relationships with clients and community leaders. The showcase sells out quickly\, so secure your place in the business spotlight and register today!<br />\n	<br />\n	<strong>EXPO Registration Information:</strong><br />\n	Registration includes 2 full admission tickets to Business After Hours\, expo table display from 5pm to 7pm during Business After Hours\, opportunity to provide one or&nbsp\;more&nbsp\;of the much-anticipated door prizes\, listing in program and e-blasts advertising the event.<br />\n	<br />\n	<strong>$275 Alliance members<br />\n	$400 Future members</strong><br />\n	<br />\n	<span style="color: rgb(178\, 34\, 34)\;">*Early bird discount registration prices offered through March 8\, 2013:</span><br />\n	$200 Alliance members<br />\n	$375 future members<br />\n	<br />\n	<strong>Register online via the link above.</strong><br />\n	<br />\n	<span style="font-size: 10px\;"><span style="color: rgb(178\, 34\, 34)\;">If you work with an Alliance member-business and need assistance obtaining your password to access exclusive member-discounts\, please email<a href="mailto:LStrickland@charlestonareaalliance.org?subject=Password%20Inquiry"> Leigh Anne Strickland </a>- Director\, Member Programs &amp\; Services. </span></span><br />\n	&nbsp\;</p>\n<p>\n	<span style="font-size: 12px\;">Looking&nbsp\;to purchase individual Business After Hours tickets for this event? <a href="http://charlestonareaalliance.chambermaster.com/Events/details/business-after-hours-march-2013-544">Click here</a>.</span><br />\n	<br />\n	&nbsp\;</p>\n
LOCATION:Charleston Marriott Town Center Pavillion 200 Lee Street Charleston\, WV 25301
UID:e.1499.549
SEQUENCE:3
DTSTAMP:20260422T140424Z
URL:https://business.charlestonareaalliance.org/events/details/charleston-business-showcase-expo-2013-03-28-2013-549
END:VEVENT

END:VCALENDAR
