BEGIN:VCALENDAR
VERSION:2.0
PRODID:-//ChamberMaster//Event Calendar 2.0//EN
METHOD:PUBLISH
X-PUBLISHED-TTL:P3D
REFRESH-INTERVAL:P3D
CALSCALE:GREGORIAN
BEGIN:VEVENT
DTSTART:20100316T040000Z
DTEND:20100316T040000Z
X-MICROSOFT-CDO-ALLDAYEVENT:FALSE
SUMMARY:Charleston Business Showcase 2010
DESCRIPTION:
X-ALT-DESC;FMTTYPE=text/html:
LOCATION:Marriott
UID:e.1499.315
SEQUENCE:3
DTSTAMP:20260425T202526Z
URL:https://business.charlestonareaalliance.org/events/details/charleston-business-showcase-2010-03-16-2010-315
END:VEVENT

END:VCALENDAR
