BEGIN:VCALENDAR
VERSION:2.0
PRODID:-//ChamberMaster//Event Calendar 2.0//EN
METHOD:PUBLISH
X-PUBLISHED-TTL:P3D
REFRESH-INTERVAL:P3D
CALSCALE:GREGORIAN
BEGIN:VEVENT
DTSTART:20170304T150000Z
DTEND:20170304T220000Z
X-MICROSOFT-CDO-ALLDAYEVENT:FALSE
SUMMARY:Celtic Calling Boutique Walk
DESCRIPTION:Stroll\, shop and discover at the Celtic Calling Boutique Walk 10 a.m. to 5 p.m. Saturday\, March 4\, at participating retailers throughout Downtown Charleston. \n\n\n\nStop in downtown boutiques for in-store promotions\, trunk shows\, demos\, hands-on activities and more. Plus listen to street bagpipers blast the pipes and the gentle melodies of folk songs echoing inside downtown stores and galleries. \n\n\n\nCheck back prior to the event for a full list of participating stores
X-ALT-DESC;FMTTYPE=text/html:Stroll\, shop and discover at the Celtic Calling Boutique Walk 10 a.m. to 5 p.m. Saturday\, March 4\, at participating retailers throughout Downtown Charleston.&nbsp\;<br />\n<br />\nStop in downtown boutiques for in-store promotions\, trunk shows\, demos\, hands-on activities and more. Plus listen to street bagpipers blast the pipes and the gentle melodies of folk songs echoing inside downtown stores and galleries.&nbsp\;<br />\n<br />\nCheck back prior to the event for a full list of participating stores
LOCATION:Participating stores in Downtown Charleston
UID:e.1499.1925
SEQUENCE:3
DTSTAMP:20260419T224536Z
URL:https://business.charlestonareaalliance.org/events/details/celtic-calling-boutique-walk-1925
END:VEVENT

END:VCALENDAR
