BEGIN:VCALENDAR
VERSION:2.0
PRODID:-//ChamberMaster//Event Calendar 2.0//EN
METHOD:PUBLISH
X-PUBLISHED-TTL:P3D
REFRESH-INTERVAL:P3D
CALSCALE:GREGORIAN
BEGIN:VEVENT
DTSTART;VALUE=DATE:20140416
DTEND;VALUE=DATE:20140417
TRANSP:TRANSPARENT
X-MICROSOFT-CDO-ALLDAYEVENT:TRUE
SUMMARY:Buzz for Your Biz: Doing Well by Doing Good
DESCRIPTION:Local businesses are often overwhelmed with requests to donate to charitable events or become involved in a fundraising activity.\n\n\n\nTo help retailers and other small businesses give back to the community while getting a return on their ROI\, the Charleston Area Alliance GROW Small Business program and the West Virginia Symphony League are partnering to present "Buzz for Your Biz: Doing Well by Doing Good."   \n\n\n\nThe goal of the free workshop to help small businesses understand their target market\, and how to  leverage involvement in community activities and fundraisers to increase engagement with current and new customers.  \n\n\n\nThe program will be held at 5:30-6:30 p.m. on Wednesday\, April 16\, at the Charleston Area Alliance.    \n\n\n\nSpeakers will share strategies on how to leverage involvement in fundraisers -- such as the WVSL Fashion Show\, fun runs and  benefit galas -- though social media and partnerships with non-profits. Alliance representatives will also share information on government and other resources\, such as GROW\, that are designed to help small businesses succeed.   \n\n\n\nAdmission is FREE but advance registration is required:
X-ALT-DESC;FMTTYPE=text/html:Local businesses are often overwhelmed with requests to donate to charitable events or become involved in a fundraising activity.<br />\n<br />\nTo help retailers and other small businesses give back to the community while getting a return on their ROI\, the Charleston Area Alliance GROW Small Business program and the West Virginia Symphony League are partnering to present &ldquo\;Buzz for Your Biz: Doing Well by Doing Good.&rdquo\;&nbsp\; &nbsp\;<br />\n<br />\nThe goal of the free workshop to help small businesses understand their target market\, and how to&nbsp\; leverage involvement in community activities and fundraisers to increase engagement with current and new customers. &nbsp\;<br />\n<br />\nThe program will be held at 5:30-6:30 p.m. on Wednesday\, April 16\, at the Charleston Area Alliance.&nbsp\;&nbsp\; &nbsp\;<br />\n<br />\nSpeakers will share strategies on how to leverage involvement in fundraisers -- such as the WVSL Fashion Show\, fun runs and&nbsp\; benefit galas -- though social media and partnerships with non-profits. Alliance representatives will also share information on government and other resources\, such as GROW\, that are designed to help small businesses succeed.&nbsp\; &nbsp\;<br />\n<br />\nAdmission is FREE but advance registration is required:
LOCATION:Charleston Area Alliance 1116 Smith Street
UID:e.1499.701
SEQUENCE:3
DTSTAMP:20260421T202440Z
URL:https://business.charlestonareaalliance.org/events/details/buzz-for-your-biz-doing-well-by-doing-good-04-16-2014-701
END:VEVENT

END:VCALENDAR
