BEGIN:VCALENDAR
VERSION:2.0
PRODID:-//ChamberMaster//Event Calendar 2.0//EN
METHOD:PUBLISH
X-PUBLISHED-TTL:P3D
REFRESH-INTERVAL:P3D
CALSCALE:GREGORIAN
BEGIN:VEVENT
DTSTART:20150122T220000Z
DTEND:20150123T000000Z
X-MICROSOFT-CDO-ALLDAYEVENT:FALSE
SUMMARY:Business After Hours/WV Symphony Open House Jan. 2015
DESCRIPTION:This month the Charleston Area Alliance is teaming up with the WV Symphony Orchestra for it's Open House event at Business After Hours. The event will feature a behind-the-scenes look at the WVSO with a special rehearsal of the weekend's concert.\n\n\n\nEnjoy delicious catering in a festive atmosphere and network with area businesses while enjoying the sights and sounds of the Clay Center and the WV Symphony.\n\n\n\nBusiness After Hours offer fantastic opportunities to meet the region's leaders in a relaxed setting with food\, drinks and entertainment.
X-ALT-DESC;FMTTYPE=text/html:<br />\nThis month the Charleston Area Alliance is teaming up with the WV Symphony Orchestra for it&#39\;s Open House event at Business After Hours. The event will feature a behind-the-scenes look at the WVSO with a special rehearsal of the weekend&rsquo\;s concert.<br />\n<br />\nEnjoy delicious catering in a festive atmosphere and network with area businesses while enjoying the sights and sounds of the Clay Center and the WV Symphony.<br />\n<br />\nBusiness After Hours&nbsp\;offer fantastic opportunities to meet the region&#39\;s leaders in a relaxed setting with&nbsp\;food\, drinks and entertainment.
LOCATION:Clay Center for the Arts and Sciences
UID:e.1499.746
SEQUENCE:3
DTSTAMP:20260421T092431Z
URL:https://business.charlestonareaalliance.org/events/details/business-after-hours-wv-symphony-open-house-jan-2015-01-22-2015-746
END:VEVENT

END:VCALENDAR
