BEGIN:VCALENDAR
VERSION:2.0
PRODID:-//ChamberMaster//Event Calendar 2.0//EN
METHOD:PUBLISH
X-PUBLISHED-TTL:P3D
REFRESH-INTERVAL:P3D
CALSCALE:GREGORIAN
BEGIN:VEVENT
DTSTART:20160204T220000Z
DTEND:20160205T000000Z
X-MICROSOFT-CDO-ALLDAYEVENT:FALSE
SUMMARY:Business After Hours/WV Symphony Open House - February 2016
DESCRIPTION:The Charleston Area Alliance is teaming up with the West Virginia Symphony Orchestra for its Open House at Business After Hours on February 4 from 5-7 p.m.  The event - sponsored in part by Jackson Kelly PLLC\, Attorneys at Law and Arnett Carbis Toothman LLP\, CPAs & Advisors - is free\, with required registration.\n\n\n\nEnjoy delicious catering in a festive atmosphere and network with area businesses while enjoying the sounds of the West Virginia Symphony Orchestra musicians throughout the evening at the Clay Center for Arts and Sciences.\n\n\n\nWest Virginia Symphony Orchestra will present 'John Williams: All the Blockbusters" on February 6 at 8 p.m. at the Clay Center. Your favorite movie scores come alive with all his greatest hits like Star Wars\, Jurassic Park\, Harry Potter and more! Tickets starting at $10 are on sale now at www.wvsymphony.org.\n\n\n\nBusiness After Hours events offer fantastic opportunities to meet the region's leaders in a relaxed setting with food\, drinks and entertainment.
X-ALT-DESC;FMTTYPE=text/html:The Charleston Area Alliance is teaming up with the West Virginia Symphony Orchestra for its Open House&nbsp\;at Business After Hours on February 4 from 5-7 p.m.&nbsp\; The event - sponsored in part by Jackson Kelly PLLC\, Attorneys at Law&nbsp\;and Arnett Carbis Toothman LLP\, CPAs &amp\; Advisors&nbsp\;- is free\, with required registration.<br />\n<br />\nEnjoy delicious catering in a festive atmosphere and network with area businesses while enjoying the&nbsp\;sounds of the West Virginia Symphony Orchestra musicians&nbsp\;throughout the evening at the Clay Center for Arts and Sciences.<br />\n<br />\nWest Virginia Symphony Orchestra will&nbsp\;present &#39\;John Williams: All the Blockbusters&quot\; on February 6 at 8 p.m. at the Clay Center.&nbsp\;Your favorite movie scores come alive with all his greatest hits like <em>Star Wars\, Jurassic Park\, Harry Potter</em> and more! Tickets starting at $10 are on sale now at <a href="http://www.wvsymphony.org">www.wvsymphony.org</a>.<br />\n<br />\nBusiness After Hours&nbsp\;events offer fantastic opportunities to meet the region&#39\;s leaders in a relaxed setting with&nbsp\;food\, drinks and entertainment.&nbsp\;
LOCATION:Clay Center for the Arts and Sciences Parking available at the Clay Center lot\, adjacent to the Clay Center\, across Washington Street for $3/car.
UID:e.1499.823
SEQUENCE:3
DTSTAMP:20260420T155811Z
URL:https://business.charlestonareaalliance.org/events/details/business-after-hours-wv-symphony-open-house-february-2016-02-04-2016-823
END:VEVENT

END:VCALENDAR
