BEGIN:VCALENDAR
VERSION:2.0
PRODID:-//ChamberMaster//Event Calendar 2.0//EN
METHOD:PUBLISH
X-PUBLISHED-TTL:P3D
REFRESH-INTERVAL:P3D
CALSCALE:GREGORIAN
BEGIN:VEVENT
DTSTART:20170216T220000Z
DTEND:20170217T010000Z
X-MICROSOFT-CDO-ALLDAYEVENT:FALSE
SUMMARY:Business After Hours - WV Symphony Open House 2017
DESCRIPTION:The Charleston Area Alliance is teaming up with the West Virginia Symphony Orchestra for its Open House at Business After Hours on February 16 from 5-8 p.m.  Event sponsors are Jackson Kelly PLLC and Arnett Carbis Toothman.\n\n\n\nThe event is free\, however registration is required.\n\n\n\nEnjoy delicious catering by Embassy Suites in the Grand Lobby and network with area business and community leaders. \n\n\n\nParking in the lot across from the Clay Center is $5 per car.
X-ALT-DESC;FMTTYPE=text/html:The Charleston Area Alliance is teaming up with the West Virginia Symphony Orchestra for its Open House&nbsp\;at Business After Hours on February&nbsp\;16 from 5-8&nbsp\;p.m.&nbsp\; Event sponsors are Jackson Kelly PLLC and Arnett Carbis Toothman.<br />\n<br />\nThe event&nbsp\;is free\, however&nbsp\;registration is required.<br />\n<br />\nEnjoy delicious catering by Embassy Suites in the Grand Lobby and network with area business and community leaders.&nbsp\;<br />\n<br />\nParking&nbsp\;in the lot across from the Clay Center is $5 per car.
LOCATION:Clay Center for the Arts and Sciences 1 Clay Square Charleston\, WV 25301
UID:e.1499.1890
SEQUENCE:3
DTSTAMP:20260420T010948Z
URL:https://business.charlestonareaalliance.org/events/details/business-after-hours-wv-symphony-open-house-2017-1890
END:VEVENT

END:VCALENDAR
