BEGIN:VCALENDAR
VERSION:2.0
PRODID:-//ChamberMaster//Event Calendar 2.0//EN
METHOD:PUBLISH
X-PUBLISHED-TTL:P3D
REFRESH-INTERVAL:P3D
CALSCALE:GREGORIAN
BEGIN:VEVENT
DTSTART:20180215T220000Z
DTEND:20180216T000000Z
X-MICROSOFT-CDO-ALLDAYEVENT:FALSE
SUMMARY:Business After Hours - West Virginia Symphony Open House 2018
DESCRIPTION:Join us for Business After Hours   West Virginia Symphony Orchestra Open House at the Clay Center for the Arts & Sciences. Network with colleagues and connect with business and community leaders at this monthly Alliance event. \n\n\n\nThe WVSO is West Virginia's premier performing arts organization\, presenting classical\, pops\, and chamber-music concerts annually. Currently in its 78th season\, the WVSO is a proud member of the community and enriches the region by providing affordable\, high-quality concerts\, collaborations with West Virginia arts organizations and a nationally award-winning education program.\n\n\n\nThis Business After Hours is free. Registration is required. \n\n\n\nThe West Virginia Symphony Open House is sponsored by Jackson Kelly\, Arnett Carbis Toothman CPAs & Advisors\, Arnett Carbis Toothman Wealth Advisors\, Mountain State Beverage and Embassy Suites.
X-ALT-DESC;FMTTYPE=text/html:<p>Join us for Business After Hours &mdash\;&nbsp\;West Virginia Symphony Orchestra Open House at the Clay Center for the Arts &amp\; Sciences. Network with colleagues and connect with business and community leaders at this monthly Alliance event.&nbsp\;<br />\n<br />\nThe WVSO is West Virginia&rsquo\;s premier performing arts organization\, presenting classical\, pops\, and chamber-music concerts annually. Currently in its 78th season\, the WVSO is a proud member of the community and enriches the region by providing affordable\, high-quality concerts\, collaborations with West Virginia arts organizations and a nationally award-winning education program.<br />\n<br />\nThis Business After Hours is free. Registration is required.&nbsp\;<br />\n<br />\nThe West Virginia Symphony Open House is sponsored by&nbsp\;Jackson Kelly\, Arnett Carbis Toothman CPAs &amp\; Advisors\, Arnett Carbis Toothman Wealth Advisors\, Mountain State Beverage and Embassy Suites.&nbsp\;<br />\n&nbsp\;</p>\n
LOCATION:Clay Center for the Arts & Sciences One Clay Square Charleston\, WV 25301
UID:e.1499.2986
SEQUENCE:3
DTSTAMP:20260421T082112Z
URL:https://business.charlestonareaalliance.org/events/details/business-after-hours-west-virginia-symphony-open-house-2018-2986
END:VEVENT

END:VCALENDAR
