BEGIN:VCALENDAR
VERSION:2.0
PRODID:-//ChamberMaster//Event Calendar 2.0//EN
METHOD:PUBLISH
X-PUBLISHED-TTL:P3D
REFRESH-INTERVAL:P3D
CALSCALE:GREGORIAN
BEGIN:VEVENT
DTSTART:20170421T210000Z
DTEND:20170421T230000Z
X-MICROSOFT-CDO-ALLDAYEVENT:FALSE
SUMMARY:Business After Hours - West Virginia Power 2017
DESCRIPTION:Join the Charleston Area Alliance for a special Friday edition of Business After Hours with the West Virginia Power 5 - 7 p.m. April 21 at Appalachian Power Park. \n\n\n\nNetwork with friends and colleagues and connect with business and community leaders at this monthly Alliance event. Business After Hours will feature a pre-game picnic with food and drinks. \n\n\n\nBusiness After Hours registration includes a complimentary general admission ticket to the 7:05 p.m. West Virginia Power game against the Lakewood BlueClaws\, which will be followed by a post-game fireworks show.\n\n\n\nBusiness After Hours guests enter through the Appalachian Power Park third base gate\, along Smith Street. \n\n\n\nRegistration is $15 for Alliance members and $25 for future members. At 5 p.m. April 20 registration prices increase to $25 for Alliance members and $35 for future members.\n\n\n\nInvoice is available for groups of 10 or more. No refunds are issued within 48 hours of the event.
X-ALT-DESC;FMTTYPE=text/html:<p>Join the Charleston Area Alliance for a special Friday edition of Business After Hours with the West Virginia Power 5 - 7 p.m. April 21 at Appalachian Power Park.&nbsp\;<br />\n<br />\nNetwork with friends and colleagues and connect with business and community leaders at this monthly Alliance event. Business After Hours will feature a pre-game picnic with food and drinks.&nbsp\;<br />\n<br />\nBusiness After Hours registration includes a complimentary general admission ticket to the 7:05 p.m. West Virginia Power game against the Lakewood BlueClaws\, which will be followed by a post-game fireworks show.<br />\n<br />\nBusiness After Hours guests enter through the Appalachian Power Park third base gate\, along Smith Street.&nbsp\;<br />\n<br />\nRegistration is $15 for Alliance members and $25 for future members. At 5 p.m. April 20 registration prices increase to $25 for Alliance members and $35 for future members.<br />\n<br />\nInvoice is available for groups of 10 or more. No refunds are issued within 48 hours of the event.</p>\n
LOCATION:Appalachian Power Park 601 Morris Street Charleston\, WV 25301 Business After Hours attendees should enter through the 3rd base gate at the corner of Brooks and Smith Streets\, next to the Interstate ramp.
UID:e.1499.1892
SEQUENCE:3
DTSTAMP:20260419T214655Z
URL:https://business.charlestonareaalliance.org/events/details/business-after-hours-west-virginia-power-2017-1892
END:VEVENT

END:VCALENDAR
