BEGIN:VCALENDAR
VERSION:2.0
PRODID:-//ChamberMaster//Event Calendar 2.0//EN
METHOD:PUBLISH
X-PUBLISHED-TTL:P3D
REFRESH-INTERVAL:P3D
CALSCALE:GREGORIAN
BEGIN:VEVENT
DTSTART:20180118T220000Z
DTEND:20180119T000000Z
X-MICROSOFT-CDO-ALLDAYEVENT:FALSE
SUMMARY:Business After Hours - University of Charleston Innovation Center 2018
DESCRIPTION:Join us for Business After Hours at the University of Charleston Wehrle Innovation Center. Network with colleagues and connect with business and community leaders at this monthly Alliance event. \n\n\n\nAt the newly-opened Innovation Center\, UC is educating entrepreneurs and innovators   ensuring students have the problem solving and communication skills to perform future jobs with excellence. The Innovation Center is changing the way students learn\, faculty teaches and the community embraces UC's innovative spirit. \n\n\n\nRegistration is $15 for Alliance members and $25 for future members. Add $10 if registering fewer than 24 hours in advance. \n\n\n\nInvoicing is available for groups of 10 or more. No cancellation refunds within 48 hours of event.
X-ALT-DESC;FMTTYPE=text/html:<p>Join us for Business After Hours at the University of&nbsp\;Charleston&nbsp\;Wehrle&nbsp\;Innovation Center. Network with colleagues and connect with business and community leaders at this monthly Alliance event.&nbsp\;<br />\n<br />\nAt the newly-opened Innovation Center\, UC is educating entrepreneurs and innovators &mdash\;&nbsp\;ensuring&nbsp\;students have the problem solving and communication skills to perform future jobs with excellence. The Innovation Center is changing the way students learn\, faculty teaches and the community embraces UC&rsquo\;s innovative spirit.&nbsp\;<br />\n<br />\nRegistration is $15 for Alliance members and $25 for future members. Add $10 if registering fewer than 24 hours in advance.&nbsp\;<br />\n<br />\nInvoicing is available for groups of 10 or more. No cancellation&nbsp\;refunds within 48 hours of event.&nbsp\;</p>\n
LOCATION:University of Charleston Wehrle Innovation Center 2300 MacCorkle Ave. SE Charleston\, WV 25304
UID:e.1499.2985
SEQUENCE:3
DTSTAMP:20260421T092434Z
URL:https://business.charlestonareaalliance.org/events/details/business-after-hours-university-of-charleston-innovation-center-2018-2985
END:VEVENT

END:VCALENDAR
