BEGIN:VCALENDAR
VERSION:2.0
PRODID:-//ChamberMaster//Event Calendar 2.0//EN
METHOD:PUBLISH
X-PUBLISHED-TTL:P3D
REFRESH-INTERVAL:P3D
CALSCALE:GREGORIAN
BEGIN:VEVENT
DTSTART:20170713T210000Z
DTEND:20170713T230000Z
X-MICROSOFT-CDO-ALLDAYEVENT:FALSE
SUMMARY:Business After Hours - Trojan Landing Marine 2017
DESCRIPTION:Join the Charleston Area Alliance and Trojan Landing Marine for Business After Hours on July 13 from 5-7 p.m. Catering will be provided by The Barge Restaurant.\n\n\n\nTrojan Landing Marine of Charleston is a one-stop shop for all your boat installation and maintenance services. They also offer superior storage services\, superb customer service and a full range of boats for sale. Trojan Landing Marine takes the hassle out of boating!\n\n\n\nBusiness After Hours events offer fantastic opportunities to network and meet the region's leaders in a relaxed setting. All ticket prices include complimentary food and beverages.\n\n\n\nThe cost is $15 for Alliance members and $25 for future members who register online by 5 p.m. July 12. Prices increase to $25 for Alliance members and $35 for future members after 5 p.m. July 12.Invoicing for groups of 10 or more\; no refunds within 48 hours of event.
X-ALT-DESC;FMTTYPE=text/html:<p>Join the Charleston Area Alliance and Trojan Landing Marine for Business After Hours on July 13 from 5-7 p.m.&nbsp\;Catering will be provided by The Barge Restaurant.<br />\n<br />\nTrojan Landing Marine of Charleston&nbsp\;is&nbsp\;a one-stop shop for all&nbsp\;your boat installation and maintenance services. They also offer superior storage services\, superb customer service&nbsp\;and a full range of boats for sale.&nbsp\;Trojan Landing Marine takes the hassle out of boating!<br />\n<br />\nBusiness After Hours&nbsp\;events&nbsp\;offer fantastic opportunities to network and meet the region&#39\;s leaders in a relaxed setting.&nbsp\;All ticket prices include complimentary food and beverages.<br />\n<br />\nThe cost is $15 for Alliance members and $25 for future members who register online by 5 p.m. July 12.&nbsp\;Prices increase&nbsp\;to $25 for Alliance members and $35 for future members after 5 p.m.&nbsp\;July 12.Invoicing&nbsp\;for groups of 10 or more\; no refunds&nbsp\;within 48 hours of&nbsp\;event.</p>\n
LOCATION:Trojan Landing Marine 1414 MacCorkle Avenue\, SW Charleston\, WV 25303
UID:e.1499.1900
SEQUENCE:3
DTSTAMP:20260419T175112Z
URL:https://business.charlestonareaalliance.org/events/details/business-after-hours-trojan-landing-marine-2017-1900
END:VEVENT

END:VCALENDAR
