BEGIN:VCALENDAR
VERSION:2.0
PRODID:-//ChamberMaster//Event Calendar 2.0//EN
METHOD:PUBLISH
X-PUBLISHED-TTL:P3D
REFRESH-INTERVAL:P3D
CALSCALE:GREGORIAN
BEGIN:VEVENT
DTSTART:20160428T210000Z
DTEND:20160428T230000Z
X-MICROSOFT-CDO-ALLDAYEVENT:FALSE
SUMMARY:Business After Hours - Tim Short Acura
DESCRIPTION:Join the Charleston Area Alliance for Business After Hours on April 28\, hosted by Tim Short Acura.  All ticket prices include complimentary food and beverages.\n\n\n\nTim Short Acura in South Charleston\, WV - also serving Huntington\, WV and Ashland\, KY - is proud to be an automotive leader in our area. Since opening its doors\, Tim Short Acura has kept a firm commitment to its customers. They offer a wide selection of vehicles and hope to make the car buying process as quick and hassle free as possible.\n\n\n\nEnjoy delicious catering in a festive atmosphere and entertainment by The Pennington Project.  BAH events are fantastic opportunities to network and meet the region's leaders in a relaxed setting\, all while enjoying food\, drinks and entertainment.\n\n\n\nThe cost is $15 for Alliance members and $25 for future members who register online by 5 p.m. April 27.  Prices increase to $25 for Alliance members and $35 for future members after 5 p.m. April 27.\nInvoicing available for groups of 10 or more\; no refunds issued within 48 hours of the scheduled event.
X-ALT-DESC;FMTTYPE=text/html:<p>Join the Charleston Area Alliance for Business After Hours on April 28\,&nbsp\;hosted by Tim Short Acura. &nbsp\;All ticket prices include complimentary food and beverages.<br />\n<br />\nTim Short Acura in South Charleston\, WV -&nbsp\;also serving Huntington\, WV and Ashland\, KY -&nbsp\;is proud to be an automotive leader in our area. Since opening its&nbsp\;doors\, Tim Short Acura has kept a firm commitment to its&nbsp\;customers.&nbsp\;They&nbsp\;offer a wide selection of vehicles and hope to make the car buying process as quick and hassle free as possible.<br />\n<br />\nEnjoy delicious catering in a festive atmosphere and&nbsp\;entertainment by The Pennington Project.&nbsp\; BAH events are fantastic opportunities to network and meet the region&#39\;s leaders in a relaxed setting\, all while enjoying food\, drinks and entertainment.<br />\n<br />\nThe cost is $15 for Alliance members and $25 for future members who register online by 5 p.m. April 27.&nbsp\;&nbsp\;Prices increase&nbsp\;to $25 for Alliance members and $35 for future members after 5 p.m.&nbsp\;April 27.</p>\nInvoicing available for groups of 10 or more\; no refunds issued within 48 hours of the scheduled event.
LOCATION:Tim Short Acura 131 MacCorkle Avenue\, SW South Charleston\, WV 25303
UID:e.1499.856
SEQUENCE:3
DTSTAMP:20260420T132143Z
URL:https://business.charlestonareaalliance.org/events/details/business-after-hours-tim-short-acura-856
END:VEVENT

END:VCALENDAR
