BEGIN:VCALENDAR
VERSION:2.0
PRODID:-//ChamberMaster//Event Calendar 2.0//EN
METHOD:PUBLISH
X-PUBLISHED-TTL:P3D
REFRESH-INTERVAL:P3D
CALSCALE:GREGORIAN
BEGIN:VEVENT
DTSTART:20140724T220000Z
DTEND:20140725T000000Z
X-MICROSOFT-CDO-ALLDAYEVENT:FALSE
SUMMARY:Business After Hours - Thornhill Acura 2014
DESCRIPTION:Join the Charleston Area Alliance for Business After Hours on July 24. All ticket prices include complimentary food and beverages. It will be hosted by the Thornhill Acura.\n\n\n\nEnjoy delicious catering in a festive atmosphere with giveaways and live music from The Pennington Project.\n\n\n\nBAH events are fantastic opportunities to network and meet the region's leaders in a relaxed setting\, all while enjoying food\, drinks and entertainment.\n\n\n\nThe cost is $15 for Alliance members and $25 for future members who register online before the day of the scheduled event. Prices the day of the event increase to $25 for Alliance members and $35 for future members.\n\n\n\nRegister via the blue button at top left. If you work with an Alliance-member business and need assistance locating your password to access exclusive discounts\, email Deb Coffman (DCoffman@CharlestonAreaAlliance.org). \nThe Alliance cannot issue cancelation refunds within 48 hours of the scheduled event.
X-ALT-DESC;FMTTYPE=text/html:<p><br />\n<br />\nJoin the Charleston Area Alliance for Business After Hours on July 24. All ticket prices include complimentary food and beverages. It will be hosted by the Thornhill Acura.<br />\n<br />\nEnjoy delicious catering in a festive atmosphere with giveaways and live music from The Pennington Project.<br />\n<br />\nBAH events are fantastic opportunities to network and meet the region&#39\;s leaders in a relaxed setting\, all while enjoying food\, drinks and entertainment.<br />\n<br />\nThe cost is $15 for Alliance members and $25 for future members who register online before the day of the scheduled event. Prices the day of the event increase to $25 for Alliance members and $35 for future members.<br />\n<br />\nRegister via the blue button at top left. If you work with an Alliance-member business and need assistance locating your password to access exclusive discounts\, email&nbsp\;<a href="mailto:DCoffman@CharlestonAreaAlliance.org?subject=Password%20Inquiry">Deb&nbsp\;Coffman</a>&nbsp\;(DCoffman@CharlestonAreaAlliance.org).&nbsp\;</p>\nThe Alliance cannot issue cancelation refunds within 48 hours of the scheduled event.
LOCATION:Thornhill Acura 131 MacCorkle Ave SW South Charleston\, WV 25303
UID:e.1499.715
SEQUENCE:3
DTSTAMP:20260421T165523Z
URL:https://business.charlestonareaalliance.org/events/details/business-after-hours-thornhill-acura-2014-715
END:VEVENT

END:VCALENDAR
