BEGIN:VCALENDAR
VERSION:2.0
PRODID:-//ChamberMaster//Event Calendar 2.0//EN
METHOD:PUBLISH
X-PUBLISHED-TTL:P3D
REFRESH-INTERVAL:P3D
CALSCALE:GREGORIAN
BEGIN:VEVENT
DTSTART:20130725T210000Z
DTEND:20130725T230000Z
X-MICROSOFT-CDO-ALLDAYEVENT:FALSE
SUMMARY:Business After Hours - Thornhill Acura 2013
DESCRIPTION:Join Thornhill Acura of South Charleston and the Charleston Area Alliance for Business Hours on July 25\, 2013. Tour the dealership and see the latest additions in the Acura family at this exciting summer networking event.  \n \n\nBAH events are fantastic opportunities to network and meet the region's leaders in a relaxed setting\, all while enjoying food\, drinks and entertainment.\n\nThe cost is $15 for Alliance members and $25 for future members who register online before the day of the scheduled event. Prices the day of the event increase to $25 for Alliance members and $35 for future members.\n\n\nRegister via the blue button at top left. If you work with an Alliance-member business and need assistance locating your password\, email Leigh Anne Strickland\, Director Member Programs & Services.
X-ALT-DESC;FMTTYPE=text/html:<p><span style="color: rgb(105\, 105\, 105)\;">Join Thornhill Acura of South Charleston and the Charleston Area Alliance for Business Hours on July 25\, 2013. Tour the dealership and see the latest additions in the Acura family at this exciting summer networking event. &nbsp\;</span></p>\n&nbsp\;\n\n<p style="font: inherit\; margin: 0px\; padding: 0px 0px 1.75em\; border: 0px currentColor\; border-image: none\; text-align: left\; color: rgb(0\, 0\, 0)\; vertical-align: top\; font-size-adjust: inherit\; font-stretch: inherit\;"><span style="color: rgb(105\, 105\, 105)\;">BAH events are fantastic opportunities to network and meet the region&rsquo\;s leaders in a relaxed setting\, all while enjoying food\, drinks and entertainment.</span></p>\n\n<p style="font: inherit\; margin: 0px\; padding: 0px 0px 1.75em\; border: 0px currentColor\; border-image: none\; text-align: left\; color: rgb(0\, 0\, 0)\; vertical-align: top\; font-size-adjust: inherit\; font-stretch: inherit\;"><span style="color: rgb(105\, 105\, 105)\;">The cost is $15 for Alliance members and $25 for future members who register&nbsp\;online before the day of the scheduled event. Prices the day of the event increase to $25 for Alliance members and $35 for future members.</span></p>\n<br />\n<span style="color: rgb(105\, 105\, 105)\;">Register via the blue button at top left. If you work with an Alliance-member business and need assistance locating your </span><span style="color: rgb(178\, 34\, 34)\;">password</span><span style="color: rgb(105\, 105\, 105)\;">\, email&nbsp\;</span><a href="mailto:LStrickland@charlestonareaalliance.org?subject=Password%20Inquiry"><span style="color: rgb(0\, 0\, 205)\;">Leigh Anne Strickland</span></a><span style="color: rgb(105\, 105\, 105)\;">\, Director Member Programs &amp\; Services.</span><br />\n&nbsp\;
LOCATION:Thornhill ACURA 131 MacCorkle Ave SW South Charleston\, WV 25303
UID:e.1499.637
SEQUENCE:3
DTSTAMP:20260422T074438Z
URL:https://business.charlestonareaalliance.org/events/details/business-after-hours-thornhill-acura-2013-637
END:VEVENT

END:VCALENDAR
