BEGIN:VCALENDAR
VERSION:2.0
PRODID:-//ChamberMaster//Event Calendar 2.0//EN
METHOD:PUBLISH
X-PUBLISHED-TTL:P3D
REFRESH-INTERVAL:P3D
CALSCALE:GREGORIAN
BEGIN:VEVENT
DTSTART:20130411T210000Z
DTEND:20130411T230000Z
X-MICROSOFT-CDO-ALLDAYEVENT:FALSE
SUMMARY:Business After Hours - Smith Company Motor Cars 2013
DESCRIPTION:Join Smith Company Motors and Charleston Area Alliance for the Business After Hours event in April. \n\n\n\nBAH events are fantastic opportunities to network and meet the region's leaders in a relaxed setting\, all while enjoying food\, drinks and entertainment.\n\nThe cost is $15 for Alliance members and $25 for future members who register online before the day of the scheduled event. Prices the day of the event increase to $25 for Alliance members and $35 for future members.\n\n  \n\nIf you work with an Alliance-member business and need assistance locating your password to access your exclusive member discounts\, email Leigh Anne Strickland.\n\nThe Alliance cannot issue cancelation refunds within 48 hours of event.
X-ALT-DESC;FMTTYPE=text/html:<p style="font: inherit\; margin: 0px\; padding: 0px 0px 1.75em\; border: 0px currentColor\; border-image: none\; text-align: left\; color: rgb(0\, 0\, 0)\; vertical-align: top\; font-size-adjust: inherit\; font-stretch: inherit\;">Join Smith Company Motors and Charleston Area Alliance for the Business After Hours event in April.&nbsp\;<br />\n<br />\nBAH events are fantastic opportunities to network and meet the region&rsquo\;s leaders in a relaxed setting\, all while enjoying food\, drinks and entertainment.</p>\n\n<p style="font: inherit\; margin: 0px\; padding: 0px 0px 1.75em\; border: 0px currentColor\; border-image: none\; text-align: left\; color: rgb(0\, 0\, 0)\; vertical-align: top\; font-size-adjust: inherit\; font-stretch: inherit\;">The cost is $15 for Alliance members and $25 for future members who register&nbsp\;online before the day of the scheduled event. Prices the day of the event increase to $25 for Alliance members and $35 for future members.<br />\n<span _fck_bookmark="1" style="display: none\;">&nbsp\;</span><span _fck_bookmark="1" style="display: none\;">&nbsp\;</span><br />\nIf you work with an Alliance-member business and need assistance locating your <span style="color: rgb(178\, 34\, 34)\;">password</span> to access your exclusive member discounts\, email <a href="mailto:LStrickland@charlestonareaalliance.org?subject=Password%20Inquiry">Leigh Anne Strickland</a>.</p>\n\n<p style="font: inherit\; margin: 0px\; padding: 0px 0px 1.75em\; border: 0px currentColor\; border-image: none\; text-align: left\; color: rgb(0\, 0\, 0)\; vertical-align: top\; font-size-adjust: inherit\; font-stretch: inherit\;"><em><em style="font: inherit\; margin: 0px\; padding: 0px\; border: 0px currentColor\; border-image: none\; vertical-align: baseline\; font-size-adjust: inherit\; font-stretch: inherit\;">The Alliance cannot issue cancelation refunds within 48 hours of event.&nbsp\;</em></em><em style="font: inherit\; margin: 0px\; padding: 0px\; border: 0px currentColor\; border-image: none\; vertical-align: baseline\; font-size-adjust: inherit\; font-stretch: inherit\;"><span _fck_bookmark="1" style="display: none\;">&nbsp\;</span></em></p>\n<span _fck_bookmark="1" style="display: none\;">&nbsp\;</span>
LOCATION:Smith Company Motor Cars 5 Dudley Farms Lane Charleston\, WV 25309
UID:e.1499.547
SEQUENCE:3
DTSTAMP:20260422T114403Z
URL:https://business.charlestonareaalliance.org/events/details/business-after-hours-smith-company-motor-cars-2013-547
END:VEVENT

END:VCALENDAR
