BEGIN:VCALENDAR
VERSION:2.0
PRODID:-//ChamberMaster//Event Calendar 2.0//EN
METHOD:PUBLISH
X-PUBLISHED-TTL:P3D
REFRESH-INTERVAL:P3D
CALSCALE:GREGORIAN
BEGIN:VEVENT
DTSTART:20150924T220000Z
DTEND:20150925T000000Z
X-MICROSOFT-CDO-ALLDAYEVENT:FALSE
SUMMARY:Business After Hours - September 2015
DESCRIPTION:Join Ferguson Enterprises and the Charleston Area Alliance for Business After Hours on Sept. 24. Relax with friends and enjoy food from Meticulous\, beverages and live music from Bob Thompson. \n\nBAH events are fantastic opportunities to network and meet the region's leaders in a relaxed setting\, all while enjoying food\, drinks and entertainment.\n\nThe cost is $15 for Alliance members and $25 for future members who register online before the day of the scheduled event. Prices the day of the event increase to $25 for Alliance members and $35 for future members.\nRegister via the blue button at top left.\n\n\n\nInvoicing for groups of 10 or more.  No refunds will be issued within 48 hours of the scheduled event.
X-ALT-DESC;FMTTYPE=text/html:<p><span style="color: rgb(105\, 105\, 105)\;">Join Ferguson Enterprises and the Charleston Area Alliance for Business After Hours on Sept. 24. Relax with friends and enjoy food from Meticulous\, beverages and live music from Bob Thompson. </span></p>\n\n<p style="font: inherit\; margin: 0px\; padding: 0px 0px 1.75em\; border: 0px currentColor\; border-image: none\; text-align: left\; color: rgb(0\, 0\, 0)\; vertical-align: top\; font-size-adjust: inherit\; font-stretch: inherit\;"><span style="color: rgb(105\, 105\, 105)\;">BAH events are fantastic opportunities to network and meet the region&rsquo\;s leaders in a relaxed setting\, all while enjoying food\, drinks and entertainment.</span></p>\n\n<p style="font: inherit\; margin: 0px\; padding: 0px 0px 1.75em\; border: 0px currentColor\; border-image: none\; text-align: left\; color: rgb(0\, 0\, 0)\; vertical-align: top\; font-size-adjust: inherit\; font-stretch: inherit\;"><span style="color: rgb(105\, 105\, 105)\;">The cost is $15 for Alliance members and $25 for future members who register&nbsp\;online before the day of the scheduled event. Prices the day of the event increase to $25 for Alliance members and $35 for future members.</span></p>\n<span style="color: rgb(105\, 105\, 105)\;">Register via the blue button at top left.</span><br />\n<br />\n<span style="color: rgb(105\, 105\, 105)\;">Invoicing for groups of 10 or more.&nbsp\; No refunds will be issued within 48 hours of the scheduled event.</span><br />\n&nbsp\;
LOCATION:Ferguson Enterprises 160 Spring Street Charleston\, WV 25301
UID:e.1499.806
SEQUENCE:3
DTSTAMP:20260420T225859Z
URL:https://business.charlestonareaalliance.org/events/details/business-after-hours-september-2015-09-24-2015-806
END:VEVENT

END:VCALENDAR
