BEGIN:VCALENDAR
VERSION:2.0
PRODID:-//ChamberMaster//Event Calendar 2.0//EN
METHOD:PUBLISH
X-PUBLISHED-TTL:P3D
REFRESH-INTERVAL:P3D
CALSCALE:GREGORIAN
BEGIN:VEVENT
DTSTART:20130926T210000Z
DTEND:20130926T230000Z
X-MICROSOFT-CDO-ALLDAYEVENT:FALSE
SUMMARY:Business After Hours - September 2013
DESCRIPTION:Join Ferguson Enterprises and the Charleston Area Alliance for Business After Hours on September 26\, 2013. Relax with friends and enjoy food\, beverages and live music. Don't miss this chance to enter Ferguson's door prize drawing!  \n\n\n\n	BAH events are fantastic opportunities to network and meet the region's leaders in a relaxed setting\, all while enjoying food\, drinks and entertainment.\n\n	The cost is $15 for Alliance members and $25 for future members who register online before the day of the scheduled event. Prices the day of the event increase to $25 for Alliance members and $35 for future members.\nRegister via the blue button at top left. If you work with an Alliance-member business and need assistance locating your password to access exclusive discounts\, email Deb Coffman (DCoffman@CharlestonAreaAlliance.org). \n\n\n\nThe Alliance cannot issue cancellation refunds within 48 hours of the scheduled event.
X-ALT-DESC;FMTTYPE=text/html:<p>\n	<span style="color: rgb(105\, 105\, 105)\;">Join Ferguson Enterprises and the Charleston Area Alliance for Business After Hours on September 26\, 2013. Relax with friends and enjoy food\, beverages and live music. Don&#39\;t miss this chance to enter Ferguson&#39\;s door prize drawing! &nbsp\;</span></p>\n<br />\n<p style="font: inherit\; margin: 0px\; padding: 0px 0px 1.75em\; border: 0px currentColor\; text-align: left\; color: rgb(0\, 0\, 0)\; vertical-align: top\; font-size-adjust: inherit\; font-stretch: inherit\;">\n	<span style="color: rgb(105\, 105\, 105)\;">BAH events are fantastic opportunities to network and meet the region&rsquo\;s leaders in a relaxed setting\, all while enjoying food\, drinks and entertainment.</span></p>\n<p style="font: inherit\; margin: 0px\; padding: 0px 0px 1.75em\; border: 0px currentColor\; text-align: left\; color: rgb(0\, 0\, 0)\; vertical-align: top\; font-size-adjust: inherit\; font-stretch: inherit\;">\n	<span style="color: rgb(105\, 105\, 105)\;">The cost is $15 for Alliance members and $25 for future members who register&nbsp\;online before the day of the scheduled event. Prices the day of the event increase to $25 for Alliance members and $35 for future members.</span></p>\n<span style="color: rgb(105\, 105\, 105)\;">Register via the blue button at top left. If you work with an Alliance-member business and need assistance locating your&nbsp\;</span><span style="color: rgb(178\, 34\, 34)\;">password </span><span style="color: rgb(105\, 105\, 105)\;">to access exclusive discounts\,</span><span style="color: rgb(105\, 105\, 105)\;">&nbsp\;email <a href="mailto:DCoffman@CharlestonAreaAlliance.org?subject=Password%20Inquiry">Deb Coffman</a>&nbsp\;(DCoffman@CharlestonAreaAlliance.org).&nbsp\;<br />\n<br />\nThe Alliance cannot issue cancellation&nbsp\;refunds within 48 hours of the scheduled event.</span><br />\n<br />\n
LOCATION:Ferguson Enterprises 160 Spring Street Charleston\, WV 25301
UID:e.1499.656
SEQUENCE:3
DTSTAMP:20260422T050826Z
URL:https://business.charlestonareaalliance.org/events/details/business-after-hours-september-2013-09-26-2013-656
END:VEVENT

END:VCALENDAR
