BEGIN:VCALENDAR
VERSION:2.0
PRODID:-//ChamberMaster//Event Calendar 2.0//EN
METHOD:PUBLISH
X-PUBLISHED-TTL:P3D
REFRESH-INTERVAL:P3D
CALSCALE:GREGORIAN
BEGIN:VEVENT
DTSTART:20170608T210000Z
DTEND:20170608T230000Z
X-MICROSOFT-CDO-ALLDAYEVENT:FALSE
SUMMARY:Business After Hours - Pickering Associates/O.V. Smith & Sons 2017
DESCRIPTION:Join the Charleston Area Alliance for Business After Hours with Pickering Associates and O.V. Smith & Sons 5-7 p.m. Thursday\, June 8\, 2017 at 318 Lee Street\, West. The outdoor event will feature music by Bob Thompson and catering by Bridge Road Bistro and Smith's Foodfair.  \n\n\n\nPickering Associates is a well-aligned team of professional architects and engineers that serves clients throughout the Mid-Atlantic/Appalachian region. Since opening its doors in 1988\, Pickering Associates has overseen more than 10\,000 projects. \n\n\n\nWith over 50 years in business\, O.V. Smith & Sons focuses on real estate development and leasing of buildings and land with properties statewide.\n\n\n\nThe event will be held at Pickering Associates' Charleston office at 318 Lee Street\, West on the corner of Lee Street and Maryland Avenue.\n\n\n\nBAH events\, hosted by Charleston Area Alliance members\, are fantastic opportunities to network with friends and colleagues and connect with business and community leaders in a relaxed setting.\n\n\n\nThe cost is $15 for Alliance members and $25 for future members who register online before 5:00 p.m. on June 7.\n\n\n\nPrices increase after 5:00 p.m. on June 7 to $25 for Alliance members and $35 for future members.\n\n\n\nInvoicing available for 10 or more\; no refunds within 48 hours of event.
X-ALT-DESC;FMTTYPE=text/html:<p>Join the Charleston Area Alliance for Business After Hours with Pickering Associates and O.V. Smith &amp\; Sons 5-7 p.m.&nbsp\;Thursday\,&nbsp\;June 8\, 2017 at&nbsp\;318 Lee Street\, West.&nbsp\;The outdoor event will feature music by Bob Thompson and catering by Bridge Road Bistro and Smith&#39\;s Foodfair.&nbsp\;&nbsp\;<br />\n<br />\nPickering Associates is a well-aligned team of professional architects and engineers that serves clients throughout the Mid-Atlantic/Appalachian region.&nbsp\;Since opening its doors in 1988\, Pickering Associates has overseen more than 10\,000 projects.&nbsp\;<br />\n<br />\nWith over 50 years in business\, O.V. Smith &amp\; Sons focuses on real estate development and leasing of buildings and land with properties statewide.<br />\n<br />\nThe event will be held at Pickering Associates&#39\; Charleston office at 318 Lee Street\, West on the corner of Lee Street and Maryland Avenue.<br />\n<br />\nBAH events\, hosted by Charleston Area Alliance members\, are fantastic opportunities to network with friends and colleagues and connect&nbsp\;with&nbsp\;business and community&nbsp\;leaders in a relaxed setting.<br />\n<br />\nThe cost is $15 for Alliance members and $25 for future members who register online before 5:00 p.m.&nbsp\;on June 7.<br />\n<br />\nPrices increase after 5:00 p.m. on&nbsp\;June 7 to $25 for Alliance members and $35 for future members.<br />\n<br />\n<em>Invoicing available for 10 or more\;&nbsp\;no&nbsp\;refunds within 48 hours of&nbsp\;event.</em></p>\n
LOCATION:Pickering Associates 318 Lee Street\, West Charleston\, WV 25302
UID:e.1499.1894
SEQUENCE:3
DTSTAMP:20260419T190749Z
URL:https://business.charlestonareaalliance.org/events/details/business-after-hours-pickering-associates-o-v-smith-sons-2017-1894
END:VEVENT

END:VCALENDAR
