BEGIN:VCALENDAR
VERSION:2.0
PRODID:-//ChamberMaster//Event Calendar 2.0//EN
METHOD:PUBLISH
X-PUBLISHED-TTL:P3D
REFRESH-INTERVAL:P3D
CALSCALE:GREGORIAN
BEGIN:VEVENT
DTSTART:20121011T210000Z
DTEND:20121011T230000Z
X-MICROSOFT-CDO-ALLDAYEVENT:FALSE
SUMMARY:Business After Hours: Oktoberfest 2012
DESCRIPTION:Embassy Suites' Oktoberfest Business After Hours \n\n\n\nJoin the party Oct. 11 for Embassy Suites Oktoberfest Business After Hours.\n\n\n\nBusiness After Hours events are fantastic opportunities to network and meet the region's leaders in a relaxed setting\, all while enjoying food\, drinks and entertainment.\n\n\n\nThe cost is $15 for Alliance members and $25 for future members who register early online. Online registration ends the morning of Oct. 11. Prices at the door are $25 for Alliance members and $35 for future members.\n\n\n\nThe Alliance will be able to invoice only for groups of 10 or more. Contact Deb Coffman at DCoffman@CharlestonAreaAlliance.org for more information.\n\n\n\nThe Alliance cannot issue cancelation refunds within 48 hours of the event. Thank you!
X-ALT-DESC;FMTTYPE=text/html:<span class="cnt"><strong>Embassy Suites&#39\; Oktoberfest Business After Hours </strong><br />\n<br />\nJoin the party Oct. 11 for Embassy Suites Oktoberfest Business After Hours.<br />\n<br />\nBusiness After Hours events are fantastic opportunities to network and meet the region&#39\;s leaders in a relaxed setting\, all while enjoying food\, drinks and entertainment.<br />\n<br />\nThe cost is $15 for Alliance members and $25 for future members who register early online. Online registration ends the morning of Oct. 11. Prices at the door are $25 for Alliance members and $35 for future members.<br />\n<br />\n<span style="color: #ff0000">The Alliance will be able to invoice only for groups of 10 or more. Contact Deb Coffman at DCoffman@CharlestonAreaAlliance.org for more information.<br />\n<br />\nThe Alliance cannot issue cancelation refunds within 48 hours of the event. Thank you!</span></span>
LOCATION:Embassy Suites 300 Court Street Charleston\, WV 25301
UID:e.1499.460
SEQUENCE:3
DTSTAMP:20260422T190219Z
URL:https://business.charlestonareaalliance.org/events/details/business-after-hours-oktoberfest-2012-10-11-2012-460
END:VEVENT

END:VCALENDAR
