BEGIN:VCALENDAR
VERSION:2.0
PRODID:-//ChamberMaster//Event Calendar 2.0//EN
METHOD:PUBLISH
X-PUBLISHED-TTL:P3D
REFRESH-INTERVAL:P3D
CALSCALE:GREGORIAN
BEGIN:VEVENT
DTSTART:20161027T210000Z
DTEND:20161027T230000Z
X-MICROSOFT-CDO-ALLDAYEVENT:FALSE
SUMMARY:Business After Hours - October 2016
DESCRIPTION:Join Embassy Suites and the Charleston Area Alliance for Business After Hours on October 27\, 2016 from 5-7 p.m. featuring Oktoberfest 2016.\n\n\n\nEnjoy the best German food\, Oktoberfest specialty beers and wine plus register for several getaway packages. You won't want to miss this annual event!\n\n \n\nBAH events are fantastic opportunities to network with the region's leaders in a relaxed setting and enjoy specialty food and beverages.\n\n \n\nThe cost is $15 for Alliance members and $25 for future members who register online before the day of the scheduled event. Prices increase after 5 p.m. on October 26 to $25 for Alliance members and $35 for future members.
X-ALT-DESC;FMTTYPE=text/html:<p style="margin: 0in 0in 0pt\; vertical-align: top\;"><span style="font-size: 12px\;"><span style="color: dimgray\; font-family: &quot\;Arial&quot\;\,&quot\;sans-serif&quot\;\; mso-bidi-font-size: 12.0pt\; mso-fareast-font-family: &quot\;Times New Roman&quot\;\;">Join Embassy Suites and the Charleston Area Alliance for Business After Hours on <strong>October 27\, 2016 from 5-7 p.m.</strong> featuring Oktoberfest 2016.<br />\n<br />\nEnjoy the best German food\, Oktoberfest specialty beers and wine plus register for several getaway packages.&nbsp\;You won&#39\;t want to miss this annual event!</span></span><br />\n&nbsp\;</p>\n\n<p style="margin: 0in 0in 0pt\; line-height: 15.6pt\; vertical-align: top\;"><span style="font-size: 12px\;"><span style="color: dimgray\; font-family: &quot\;Arial&quot\;\,&quot\;sans-serif&quot\;\; mso-bidi-font-size: 12.0pt\; mso-fareast-font-family: &quot\;Times New Roman&quot\;\;">BAH events are fantastic opportunities to network with the region&#39\;s leaders in a relaxed setting&nbsp\;and enjoy specialty food and beverages.<br />\n&nbsp\;</span></span></p>\n\n<p style="margin: 0in 0in 0pt\; line-height: 15.6pt\; vertical-align: top\;"><span style="font-size: 12px\;"><span style="color: black\; font-family: &quot\;Arial&quot\;\,&quot\;sans-serif&quot\;\; mso-bidi-font-size: 12.0pt\; mso-fareast-font-family: &quot\;Times New Roman&quot\;\;">T</span></span><span style="font-size: 12px\;"><span style="color: dimgray\; font-family: &quot\;Arial&quot\;\,&quot\;sans-serif&quot\;\; mso-bidi-font-size: 12.0pt\; mso-fareast-font-family: &quot\;Times New Roman&quot\;\;">he cost is $15 for Alliance members and $25 for future members who register&nbsp\;online before the day of the scheduled event. Prices increase after 5 p.m. on October 26 to $25 for Alliance members and $35 for future members.</span></span></p>\n\n<p style="margin: 0in 0in 0pt\; line-height: 15.6pt\; vertical-align: top\;">&nbsp\;</p>\n
LOCATION:Embassy Suites 300 Court Street Charleston\, WV 25301
UID:e.1499.1877
SEQUENCE:3
DTSTAMP:20260420T052517Z
URL:https://business.charlestonareaalliance.org/events/details/business-after-hours-october-2016-1877
END:VEVENT

END:VCALENDAR
