BEGIN:VCALENDAR
VERSION:2.0
PRODID:-//ChamberMaster//Event Calendar 2.0//EN
METHOD:PUBLISH
X-PUBLISHED-TTL:P3D
REFRESH-INTERVAL:P3D
CALSCALE:GREGORIAN
BEGIN:VEVENT
DTSTART:20151022T210000Z
DTEND:20151022T230000Z
X-MICROSOFT-CDO-ALLDAYEVENT:FALSE
SUMMARY:Business After Hours - October 2015
DESCRIPTION:Join Embassy Suites and the Charleston Area Alliance for Business After Hours on October 22\, 2015. Enjoy Embassy's Oktoberfest themed food and beverages. \n\nBAH events are fantastic opportunities to network with the region's leaders in a relaxed setting  and enjoy food and beverages. \n\nThe cost is $15 for Alliance members and $25 for future members who register online before the day of the scheduled event. Prices after Oct. 21 at 5 p.m. increase to $25 for Alliance members and $35 for future members.\n\nNo refunds will be issued within 48 hours of the scheduled event.
X-ALT-DESC;FMTTYPE=text/html:<p style="margin: 0in 0in 0pt\; vertical-align: top\;"><span style="font-size: 12px\;"><span style="color: dimgray\; font-family: &quot\;Arial&quot\;\,&quot\;sans-serif&quot\;\; mso-bidi-font-size: 12.0pt\; mso-fareast-font-family: &quot\;Times New Roman&quot\;\;">Join Embassy Suites and the Charleston Area Alliance for Business After Hours on October 22\, 2015. Enjoy Embassy&#39\;s Oktoberfest themed food and beverages. </span></span></p>\n\n<p style="margin: 0in 0in 0pt\; line-height: 15.6pt\; vertical-align: top\;"><span style="font-size: 12px\;"><span style="color: dimgray\; font-family: &quot\;Arial&quot\;\,&quot\;sans-serif&quot\;\; mso-bidi-font-size: 12.0pt\; mso-fareast-font-family: &quot\;Times New Roman&quot\;\;">BAH events are fantastic opportunities to network with the region&#39\;s leaders in a relaxed setting&nbsp\;&nbsp\;and enjoy food and beverages.&nbsp\;</span></span></p>\n\n<p style="margin: 0in 0in 0pt\; line-height: 15.6pt\; vertical-align: top\;"><span style="font-size: 12px\;"><span style="color: black\; font-family: &quot\;Arial&quot\;\,&quot\;sans-serif&quot\;\; mso-bidi-font-size: 12.0pt\; mso-fareast-font-family: &quot\;Times New Roman&quot\;\;">T</span></span><span style="font-size: 12px\;"><span style="color: dimgray\; font-family: &quot\;Arial&quot\;\,&quot\;sans-serif&quot\;\; mso-bidi-font-size: 12.0pt\; mso-fareast-font-family: &quot\;Times New Roman&quot\;\;">he cost is $15 for Alliance members and $25 for future members who register&nbsp\;online before the day of the scheduled event. Prices after Oct. 21 at 5 p.m. increase to $25 for Alliance members and $35 for future members.</span></span></p>\n\n<p style="margin: 0in 0in 0pt\; line-height: 15.6pt\; vertical-align: top\;"><span style="font-size: 12px\;"><span style="color: dimgray\; font-family: &quot\;Arial&quot\;\,&quot\;sans-serif&quot\;\; mso-bidi-font-size: 12.0pt\; mso-fareast-font-family: &quot\;Times New Roman&quot\;\;">No refunds will be issued&nbsp\;within 48 hours of the scheduled event.</span><span style="color: rgb(78\, 78\, 78)\; font-family: &quot\;Arial&quot\;\,&quot\;sans-serif&quot\;\; mso-bidi-font-size: 12.0pt\; mso-fareast-font-family: &quot\;Times New Roman&quot\;\;"> </span></span></p>\n
LOCATION:Embassy Suites 300 Court Street Charleston\, WV 25301
UID:e.1499.809
SEQUENCE:3
DTSTAMP:20260420T225755Z
URL:https://business.charlestonareaalliance.org/events/details/business-after-hours-october-2015-10-22-2015-809
END:VEVENT

END:VCALENDAR
