BEGIN:VCALENDAR
VERSION:2.0
PRODID:-//ChamberMaster//Event Calendar 2.0//EN
METHOD:PUBLISH
X-PUBLISHED-TTL:P3D
REFRESH-INTERVAL:P3D
CALSCALE:GREGORIAN
BEGIN:VEVENT
DTSTART:20141028T220000Z
DTEND:20141029T000000Z
X-MICROSOFT-CDO-ALLDAYEVENT:FALSE
SUMMARY:Business After Hours - October 2014
DESCRIPTION:Join Embassy Suites and the Charleston Area Alliance for Business After Hours on October 28\, 2014. Enjoy Embassy's Oktoberfest themed food and beverages. \n\nBAH events are fantastic opportunities to network and meet the region?s leaders in a relaxed setting\, all while enjoying food\, drinks and entertainment.\n\nThe cost is $15 for Alliance members and $25 for future members who register online before the day of the scheduled event. Prices after Oct. 27 at 5 p.m. increase to $25 for Alliance members and $35 for future members.\nThe Alliance cannot issue cancellation refunds within 48 hours of the scheduled event.
X-ALT-DESC;FMTTYPE=text/html:<p><br />\n<span style="color: rgb(105\, 105\, 105)\; ">Join Embassy Suites and the Charleston Area Alliance for Business After Hours on October 28\, 2014. Enjoy Embassy&#39\;s Oktoberfest themed food and beverages. </span></p>\n\n<p style="color: rgb(0\, 0\, 0)\; padding: 0px 0px 1.75em\; margin: 0px\; border: 0px\; font: inherit\; vertical-align: top\; text-align: left\; "><span style="color: rgb(105\, 105\, 105)\; ">BAH events are fantastic opportunities to network and meet the region?s leaders in a relaxed setting\, all while enjoying food\, drinks and entertainment.</span></p>\n\n<p style="color: rgb(0\, 0\, 0)\; padding: 0px 0px 1.75em\; margin: 0px\; border: 0px\; font: inherit\; vertical-align: top\; text-align: left\; "><span style="color: rgb(105\, 105\, 105)\; ">The cost is $15 for Alliance members and $25 for future members who register&nbsp\;online before the day of the scheduled event. Prices after Oct. 27 at 5 p.m. increase to $25 for Alliance members and $35 for future members.</span></p>\n<span style="color: rgb(105\, 105\, 105)\; ">The Alliance cannot issue&nbsp\;cancellation&nbsp\;refunds within 48 hours of the scheduled event.</span>
LOCATION:Embassy Suites 300 Court Street Charleston\, WV 25301
UID:e.1499.737
SEQUENCE:3
DTSTAMP:20260421T132641Z
URL:https://business.charlestonareaalliance.org/events/details/business-after-hours-october-2014-10-28-2014-737
END:VEVENT

END:VCALENDAR
