BEGIN:VCALENDAR
VERSION:2.0
PRODID:-//ChamberMaster//Event Calendar 2.0//EN
METHOD:PUBLISH
X-PUBLISHED-TTL:P3D
REFRESH-INTERVAL:P3D
CALSCALE:GREGORIAN
BEGIN:VEVENT
DTSTART:20131031T210000Z
DTEND:20131031T230000Z
X-MICROSOFT-CDO-ALLDAYEVENT:FALSE
SUMMARY:Business After Hours - October 2013
DESCRIPTION:Join Embassy Suites and the Charleston Area Alliance for Business After Hours on October 31\, 2013. Wear your favorite costume if you like\, and enjoy Embassy's Oktoberfest themed food\, beverages. \n\n\n\n	BAH events are fantastic opportunities to network and meet the region?s leaders in a relaxed setting\, all while enjoying food\, drinks and entertainment.\n\n	The cost is $15 for Alliance members and $25 for future members who register online before the day of the scheduled event. Prices the day of the event increase to $25 for Alliance members and $35 for future members.\nRegister via the blue button at top left. If you work with an Alliance-member business and need assistance locating your password to access exclusive discounts\, email Deb Coffman (DCoffman@CharlestonAreaAlliance.org). \n\n\n\nThe Alliance cannot issue cancellation refunds within 48 hours of the scheduled event.
X-ALT-DESC;FMTTYPE=text/html:<p>\n	<span style="color: rgb(105\, 105\, 105)\; ">Join Embassy Suites and the Charleston Area Alliance for Business After Hours on October 31\, 2013. Wear your favorite costume if you like\, and enjoy Embassy&#39\;s Oktoberfest themed food\, beverages.&nbsp\;</span></p>\n<br />\n<p style="color: rgb(0\, 0\, 0)\; padding: 0px 0px 1.75em\; margin: 0px\; border: 0px\; font: inherit\; vertical-align: top\; text-align: left\; ">\n	<span style="color: rgb(105\, 105\, 105)\; ">BAH events are fantastic opportunities to network and meet the region?s leaders in a relaxed setting\, all while enjoying food\, drinks and entertainment.</span></p>\n<p style="color: rgb(0\, 0\, 0)\; padding: 0px 0px 1.75em\; margin: 0px\; border: 0px\; font: inherit\; vertical-align: top\; text-align: left\; ">\n	<span style="color: rgb(105\, 105\, 105)\; ">The cost is $15 for Alliance members and $25 for future members who register&nbsp\;online before the day of the scheduled event. Prices the day of the event increase to $25 for Alliance members and $35 for future members.</span></p>\n<span style="color: rgb(105\, 105\, 105)\; ">Register via the blue button at top left. If you work with an Alliance-member business and need assistance locating your&nbsp\;</span><span style="color: rgb(178\, 34\, 34)\; ">password&nbsp\;</span><span style="color: rgb(105\, 105\, 105)\; ">to access exclusive discounts\,</span><span style="color: rgb(105\, 105\, 105)\; ">&nbsp\;email&nbsp\;<a href="mailto:DCoffman@CharlestonAreaAlliance.org?subject=Password%20Inquiry">Deb&nbsp\;Coffman</a>&nbsp\;(DCoffman@CharlestonAreaAlliance.org).&nbsp\;<br />\n<br />\nThe Alliance cannot issue&nbsp\;cancellation&nbsp\;refunds within 48 hours of the scheduled event.</span><br />\n
LOCATION:Embassy Suites 300 Court Street Charleston\, WV 25301
UID:e.1499.657
SEQUENCE:3
DTSTAMP:20260422T035827Z
URL:https://business.charlestonareaalliance.org/events/details/business-after-hours-october-2013-10-31-2013-657
END:VEVENT

END:VCALENDAR
