BEGIN:VCALENDAR
VERSION:2.0
PRODID:-//ChamberMaster//Event Calendar 2.0//EN
METHOD:PUBLISH
X-PUBLISHED-TTL:P3D
REFRESH-INTERVAL:P3D
CALSCALE:GREGORIAN
BEGIN:VEVENT
DTSTART:20161117T220000Z
DTEND:20161118T000000Z
X-MICROSOFT-CDO-ALLDAYEVENT:FALSE
SUMMARY:Business After Hours - November 2016
DESCRIPTION:Four Points by Sheraton and the Charleston Area Alliance warmly invite you to join us for a fall-themed Business After Hours on Thursday\, November 17 from 5 - 7 p.m. \n\n\n\nThe riverfront Four Points is now a part of the Marriott family. Come join us for lots of good food\, drinks and networking opportunities. Be sure to sample a 'Cinnamon Spiced Martini' - the signature drink for this event!\n\n\n\nBAH events are fantastic opportunities to meet the region's business leaders in a relaxed setting.\n\n\n\nThe cost is $15 for Alliance members and $25 for future members who register online before 5 p.m. on November 16. Prices increase to $25 for Alliance members and $35 for future members after 5 p.m. the day before the event.\n\n\n\nInvoicing available for groups of 10 or more\; no cancelation refunds within 48 hours of the event.
X-ALT-DESC;FMTTYPE=text/html:<p>Four Points by Sheraton&nbsp\;and the Charleston Area Alliance warmly invite you to join us for a fall-themed&nbsp\;<u>Business After Hours</u> on Thursday\, November 17 from 5 - 7 p.m.&nbsp\;<br />\n<br />\nThe riverfront Four Points is now a part of the Marriott family.&nbsp\;Come join us for lots of good food\, drinks and networking opportunities.&nbsp\;Be sure to sample a &#39\;Cinnamon Spiced Martini&#39\; - the signature drink for this event!<br />\n<br />\nBAH events are fantastic opportunities to meet the region&rsquo\;s business leaders in a relaxed setting.<br />\n<br />\nThe cost is $15 for Alliance members and $25 for future members who register online before 5 p.m. on November 16. Prices increase to $25 for Alliance members and $35 for future members&nbsp\;after 5 p.m. the day before the event.<br />\n<br />\nInvoicing available for groups of 10 or more\;&nbsp\;no cancelation refunds&nbsp\;within 48 hours of the&nbsp\;event.</p>\n
LOCATION:Four Points by Sheraton 600 Kanawha Boulevard\, East Charleston\, WV 25301
UID:e.1499.1879
SEQUENCE:3
DTSTAMP:20260420T040925Z
URL:https://business.charlestonareaalliance.org/events/details/business-after-hours-november-2016-1879
END:VEVENT

END:VCALENDAR
