BEGIN:VCALENDAR
VERSION:2.0
PRODID:-//ChamberMaster//Event Calendar 2.0//EN
METHOD:PUBLISH
X-PUBLISHED-TTL:P3D
REFRESH-INTERVAL:P3D
CALSCALE:GREGORIAN
BEGIN:VEVENT
DTSTART:20151119T220000Z
DTEND:20151120T000000Z
X-MICROSOFT-CDO-ALLDAYEVENT:FALSE
SUMMARY:Business After Hours - November 2015
DESCRIPTION:The Four Points Sheraton Charleston\, recent recipient of the Charleston Area Alliance We Love Our Community "Best Redevelopment" Award\, warmly invites you to join us at our contemporary venue for the Charleston Area Alliance Business After Hours on Thursday\, November 19 from 5 - 7 p.m.\, co-sponsored by National Travel.\n\n\n\nThis exciting networking event will feature cuisine from Four Points Sheraton Charleston's Executive Chef Brentford Young and Corporate Chef Paul Smith of Buzz Food Service\, a special champagne toast\, live music by The Pennington Project and much more.\n\n\n\nBAH events are fantastic opportunities to network and meet the region's leaders in a relaxed setting\, all while enjoying food\, drinks and entertainment.\n\n\n\nThe cost is $15 for Alliance members and $25 for future members who register online before 5 p.m. the day prior to the scheduled event. Prices increase to $25 for Alliance members and $35 for future members after 5 p.m. the day prior to the event.\n\n\n\nInvoicing available for groups of 10 or more.  No cancelation refunds within 48 hours of the scheduled event.
X-ALT-DESC;FMTTYPE=text/html:<p>The Four Points Sheraton Charleston\, recent recipient of the Charleston Area Alliance We Love Our Community&nbsp\;&quot\;Best Redevelopment&quot\; Award\,&nbsp\;warmly invites you to join us at our contemporary venue for the <u>Charleston Area Alliance Business After Hours</u> on Thursday\, November 19 from 5 - 7 p.m.\, co-sponsored by National Travel.<br />\n<br />\nThis exciting networking event will feature cuisine from Four Points Sheraton Charleston&#39\;s Executive Chef Brentford Young and Corporate Chef Paul Smith of Buzz Food Service\, a special champagne toast\, live music by&nbsp\;The Pennington Project and much more.<br />\n<br />\nBAH events are fantastic opportunities to network and meet the region&rsquo\;s leaders in a relaxed setting\, all while enjoying food\, drinks and entertainment.<br />\n<br />\nThe cost is $15 for Alliance members and $25 for future members who register online before 5 p.m. the day prior to&nbsp\;the scheduled event. Prices increase to $25 for Alliance members and $35 for future members&nbsp\;after 5 p.m. the day prior to the event.<br />\n<br />\nInvoicing available for groups of 10 or more.&nbsp\; No cancelation refunds&nbsp\;within 48 hours of the scheduled event.</p>\n
LOCATION:Four Points Sheraton Charleston 600 Kanawha Boulevard\, East Charleston\, WV 25301
UID:e.1499.814
SEQUENCE:3
DTSTAMP:20260420T200833Z
URL:https://business.charlestonareaalliance.org/events/details/business-after-hours-november-2015-11-19-2015-814
END:VEVENT

END:VCALENDAR
