BEGIN:VCALENDAR
VERSION:2.0
PRODID:-//ChamberMaster//Event Calendar 2.0//EN
METHOD:PUBLISH
X-PUBLISHED-TTL:P3D
REFRESH-INTERVAL:P3D
CALSCALE:GREGORIAN
BEGIN:VEVENT
DTSTART:20141120T220000Z
DTEND:20141121T000000Z
X-MICROSOFT-CDO-ALLDAYEVENT:FALSE
SUMMARY:Business After Hours - November 2014
DESCRIPTION:Join the Charleston Area Alliance for Business After Hours on Nov. 20. All ticket prices include complimentary food and beverages. It will be hosted by the Appalachian Children's Chorus.\n\n\n\nBAH events are fantastic opportunities to network and meet the region's leaders in a relaxed setting\, all while enjoying food\, drinks and entertainment.\n\n\n\nThe cost is $15 for Alliance members and $25 for future members who register online before the day of the scheduled event.\n\n\n\nPrices the day of the event increase to $25 for Alliance members and $35 for future members.\n\n\n\nRegister via the blue button at top left.\nThe Alliance cannot issue cancelation refunds within 48 hours of the scheduled event.
X-ALT-DESC;FMTTYPE=text/html:<p><br />\n<br />\nJoin the Charleston Area Alliance for Business After Hours on Nov. 20. All ticket prices include complimentary food and beverages. It will be hosted by the Appalachian Children&#39\;s Chorus.<br />\n<br />\nBAH events are fantastic opportunities to network and meet the region&#39\;s leaders in a relaxed setting\, all while enjoying food\, drinks and entertainment.<br />\n<br />\nThe cost is $15 for Alliance members and $25 for future members who register online before the day of the scheduled event.<br />\n<br />\nPrices the day of the event increase to $25 for Alliance members and $35 for future members.<br />\n<br />\nRegister via the blue button at top left.</p>\nThe Alliance cannot issue cancelation refunds within 48 hours of the scheduled event.
LOCATION:601 Morris Street\, Suite 301 Charleston\, WV 25301
UID:e.1499.740
SEQUENCE:3
DTSTAMP:20260421T132147Z
URL:https://business.charlestonareaalliance.org/events/details/business-after-hours-november-2014-11-20-2014-740
END:VEVENT

END:VCALENDAR
