BEGIN:VCALENDAR
VERSION:2.0
PRODID:-//ChamberMaster//Event Calendar 2.0//EN
METHOD:PUBLISH
X-PUBLISHED-TTL:P3D
REFRESH-INTERVAL:P3D
CALSCALE:GREGORIAN
BEGIN:VEVENT
DTSTART:20160512T210000Z
DTEND:20160513T000000Z
X-MICROSOFT-CDO-ALLDAYEVENT:FALSE
SUMMARY:Business After Hours - May 2016
DESCRIPTION:Join City National Bank and the Charleston Area Alliance for one of the most anticipated Business Hours events of the year.  Don't miss the annual City National Block Party hosted in the bank parking lot on the corner of Hale and Virginia Streets. Don't miss this opportunity to network and enjoy the great summer weather with friends and colleagues. - See more at: http://charlestonareaalliance.chambermaster.com/Events/details/business-after-hours-may-2014-699\n\n\nJoin us for the City National Bank Annual Business After Hours Block Party on Thursday\, May 12 from 5-8 p.m. at the City National Bank Hale Street location in downtown Charleston. \n\n\n\nThe City National Bank event is Charleston's largest Block Party and a great kick-off to summer. The event will feature indoor/outdoor bars and food catered by the Bridge Road Bistro.  \n\n\n\nBusiness After Hours is the perfect way to wrap up a busy work week. The event offers social and networking opportunities in a casual atmosphere. The get-togethers are hosted by Charleston Area Alliance members. \n\n\n\nRegistration is $15 for Alliance members and $25 for future members before 5 p.m. May 11.  Prices increase to $25 for Alliance members and $35 for future members after 5 p.m. May 11.\n\n\n\nInvoicing available for groups of 10 or more\; no refunds issued within 48 hours of the event.
X-ALT-DESC;FMTTYPE=text/html:<div id="stcpDiv" style="left: -1988px\; top: -1999px\; position: absolute\;">Join City National Bank and the Charleston Area Alliance for one of the most anticipated Business Hours events of the year.&nbsp\; Don&#39\;t miss the annual City National Block Party hosted in the bank parking lot on the corner of Hale and Virginia Streets. Don&#39\;t miss this opportunity to network and enjoy the great summer weather with friends and colleagues. - See more at: http://charlestonareaalliance.chambermaster.com/Events/details/business-after-hours-may-2014-699</div>\n\n<div style="color: gray\;">\n<p><span style="color: rgb(0\, 0\, 0)\;">Join us for the City National Bank Annual Business After Hours Block Party on&nbsp\;Thursday\, May 12 from 5-8 p.m. at the City National Bank Hale Street location in downtown Charleston.&nbsp\;<br />\n<br />\nThe City National Bank event&nbsp\;is Charleston&#39\;s largest Block Party and&nbsp\;a great kick-off to summer. The event will feature&nbsp\;indoor/outdoor bars and food catered by the Bridge Road Bistro.&nbsp\;&nbsp\;<br />\n<br />\nBusiness After Hours is the perfect way to wrap up a busy work week.&nbsp\;The event offers social and networking opportunities in a casual atmosphere. The get-togethers are hosted by Charleston Area Alliance members.&nbsp\;<br />\n<br />\nRegistration&nbsp\;is $15 for Alliance members and $25 for future members before 5 p.m. May 11.&nbsp\; Prices increase to $25 for Alliance members and $35 for future members after 5 p.m. May 11.<br />\n<br />\n<em><span style="font-size: 12px\;">Invoicing available for groups of 10 or more\; no refunds issued within 48 hours of the event.</span></em></span></p>\n</div>\n
LOCATION:City National Bank 10 Hale Street Charleston\, WV 25301
UID:e.1499.857
SEQUENCE:3
DTSTAMP:20260420T132150Z
URL:https://business.charlestonareaalliance.org/events/details/business-after-hours-may-2016-05-12-2016-857
END:VEVENT

END:VCALENDAR
