BEGIN:VCALENDAR
VERSION:2.0
PRODID:-//ChamberMaster//Event Calendar 2.0//EN
METHOD:PUBLISH
X-PUBLISHED-TTL:P3D
REFRESH-INTERVAL:P3D
CALSCALE:GREGORIAN
BEGIN:VEVENT
DTSTART:20140522T210000Z
DTEND:20140523T000000Z
X-MICROSOFT-CDO-ALLDAYEVENT:FALSE
SUMMARY:Business After Hours - May 2014
DESCRIPTION:Join City National Bank and the Charleston Area Alliance for one of the most anticipated Business Hours events of the year.  Don't miss the annual City National Block Party hosted in the bank parking lot on the corner of Hale and Virginia Streets. Don't miss this opportunity to network and enjoy the great summer weather with friends and colleagues. - See more at: http://charlestonareaalliance.chambermaster.com/Events/details/business-after-hours-may-2014-699\nJoin City National Bank and the Charleston Area Alliance for one of the most anticipated Business Hours events of the year. \n\n\n\nDon't miss the annual City National Block Party hosted in the bank parking lot on the corner of Hale and Virginia Streets.  It's a great opportunity to network and enjoy the great summer weather with friends and colleagues.
X-ALT-DESC;FMTTYPE=text/html:<div id="stcpDiv" style="left: -1988px\; top: -1999px\; position: absolute\;">Join City National Bank and the Charleston Area Alliance for one of the most anticipated Business Hours events of the year.&nbsp\; Don&#39\;t miss the annual City National Block Party hosted in the bank parking lot on the corner of Hale and Virginia Streets. Don&#39\;t miss this opportunity to network and enjoy the great summer weather with friends and colleagues. - See more at: http://charlestonareaalliance.chambermaster.com/Events/details/business-after-hours-may-2014-699</div>\nJoin City National Bank and the Charleston Area Alliance for one of the most anticipated Business Hours events of the year.&nbsp\;<br />\n<br />\nDon&#39\;t miss the annual City National Block Party hosted in the bank parking lot on the corner of Hale and Virginia Streets.&nbsp\;&nbsp\;It&#39\;s a great&nbsp\;opportunity to network and enjoy the great summer weather with friends and colleagues.\n<p><br />\n&nbsp\;</p>\n
LOCATION:City National Bank parking lot on corner of Hale and Virginia St 10 Hale Street Charleston\, WV 25301
UID:e.1499.699
SEQUENCE:3
DTSTAMP:20260421T191221Z
URL:https://business.charlestonareaalliance.org/events/details/business-after-hours-may-2014-05-22-2014-699
END:VEVENT

END:VCALENDAR
