BEGIN:VCALENDAR
VERSION:2.0
PRODID:-//ChamberMaster//Event Calendar 2.0//EN
METHOD:PUBLISH
X-PUBLISHED-TTL:P3D
REFRESH-INTERVAL:P3D
CALSCALE:GREGORIAN
BEGIN:VEVENT
DTSTART:20160324T210000Z
DTEND:20160324T230000Z
X-MICROSOFT-CDO-ALLDAYEVENT:FALSE
SUMMARY:Business After Hours - Marriott
DESCRIPTION:Join the Charleston Area Alliance for Business After Hours on March 24 at the Charleston Marriott located at 200 Lee Street\, East.  The event will be held in the Pavilion and all ticket prices include complimentary food and beverages.\n\n\n\nBAH events are fantastic opportunities to network and meet the region's leaders in a relaxed setting\, all while enjoying food\, drinks and entertainment.\n\n\n\nThe cost is $15 for Alliance members and $25 for future members who register online before 5 p.m. on March 23.  Prices increase after 5 p.m. on March 23 to $25 for Alliance members and $35 for future members.\n\n\n\nInvoicing available for groups of 10 or more\; no refunds issued within 48 hours of the event.
X-ALT-DESC;FMTTYPE=text/html:<p>Join the Charleston Area Alliance for Business After Hours on March 24 at the Charleston Marriott located at 200 Lee Street\, East.&nbsp\; The event will be held in the Pavilion and all ticket prices include complimentary food and beverages.<br />\n<br />\nBAH events are fantastic opportunities to network and meet the region&rsquo\;s leaders in a relaxed setting\, all while enjoying food\, drinks and entertainment.<br />\n<br />\nThe cost is $15 for Alliance members and $25 for future members who register online before 5 p.m. on March 23.&nbsp\; Prices increase after&nbsp\;5 p.m. on March&nbsp\;23&nbsp\;to $25 for Alliance members and $35 for future members.<br />\n<br />\nInvoicing available for groups of 10 or more\; no refunds issued within 48 hours of the event.<br />\n<br />\n&nbsp\;</p>\n
LOCATION:Charleston Marriott Town Center 200 Lee Street\, East Charleston\, WV 25301
UID:e.1499.831
SEQUENCE:3
DTSTAMP:20260420T154259Z
URL:https://business.charlestonareaalliance.org/events/details/business-after-hours-marriott-831
END:VEVENT

END:VCALENDAR
