BEGIN:VCALENDAR
VERSION:2.0
PRODID:-//ChamberMaster//Event Calendar 2.0//EN
METHOD:PUBLISH
X-PUBLISHED-TTL:P3D
REFRESH-INTERVAL:P3D
CALSCALE:GREGORIAN
BEGIN:VEVENT
DTSTART:20150326T210000Z
DTEND:20150326T230000Z
X-MICROSOFT-CDO-ALLDAYEVENT:FALSE
SUMMARY:Business After Hours - Marriott 2015
DESCRIPTION:Join the Charleston Area Alliance for Business After Hours on March 26. All ticket prices include complimentary food and beverages. It will be hosted by the Brick Salt Bar and Kitchen at the Charleston Marriott Town Center at 200 Lee Street East.\n\n\n\nBAH events are fantastic opportunities to network and meet the region's leaders in a relaxed setting\, all while enjoying food\, drinks and entertainment.\n\n\n\nThe cost is $15 for Alliance members and $25 for future members who register online before the day of the scheduled event. Prices the day of the event increase to $25 for Alliance members and $35 for future members.\n\n\n\nRegister via the blue button at top left.\nThe Alliance cannot issue cancelation refunds within 48 hours of the scheduled event.
X-ALT-DESC;FMTTYPE=text/html:<p><br />\nJoin the Charleston Area Alliance for Business After Hours on March 26. All ticket prices include complimentary food and beverages. It will be hosted by the Brick Salt Bar and Kitchen at the Charleston Marriott Town Center at 200 Lee Street East.<br />\n<br />\nBAH events are fantastic opportunities to network and meet the region&rsquo\;s leaders in a relaxed setting\, all while enjoying food\, drinks and entertainment.<br />\n<br />\nThe cost is $15 for Alliance members and $25 for future members who register online before the day of the scheduled event. Prices the day of the event increase to $25 for Alliance members and $35 for future members.<br />\n<br />\nRegister via the blue button at top left.</p>\nThe Alliance cannot issue cancelation refunds within 48 hours of the scheduled event.
LOCATION:Brick Salt Bar and Kitchen Charleston Marriott Town Center 200 Lee Street East Charleston\, WV 25301
UID:e.1499.753
SEQUENCE:3
DTSTAMP:20260421T065702Z
URL:https://business.charlestonareaalliance.org/events/details/business-after-hours-marriott-2015-753
END:VEVENT

END:VCALENDAR
